BEGIN:VCALENDAR
VERSION:2.0
PRODID:-//ChamberMaster//Event Calendar 2.0//EN
METHOD:PUBLISH
X-PUBLISHED-TTL:P3D
REFRESH-INTERVAL:P3D
CALSCALE:GREGORIAN
BEGIN:VEVENT
DTSTART:20220824T190000Z
DTEND:20220824T220000Z
X-MICROSOFT-CDO-ALLDAYEVENT:FALSE
SUMMARY:The Bluffs at Greystone Group Interview
DESCRIPTION:The Bluffs at Greystone is holding Group Interviews today!\n\n\n\nLots of positions available
X-ALT-DESC;FMTTYPE=text/html:The Bluffs at Greystone is holding Group Interviews today!<br />\n<br />\nLots of positions available
LOCATION:6328 Farey Lane Birmingham\, AL 35242
UID:e.3294.1680
SEQUENCE:3
DTSTAMP:20260425T204319Z
URL:https://business.hooverchamber.org/events/details/the-bluffs-at-greystone-group-interview-1680
END:VEVENT

END:VCALENDAR
