BEGIN:VCALENDAR
VERSION:2.0
PRODID:-//ChamberMaster//Event Calendar 2.0//EN
METHOD:PUBLISH
X-PUBLISHED-TTL:P3D
REFRESH-INTERVAL:P3D
CALSCALE:GREGORIAN
BEGIN:VEVENT
DTSTART:20211007T160000Z
DTEND:20211007T170000Z
X-MICROSOFT-CDO-ALLDAYEVENT:FALSE
SUMMARY:Ribbon-cutting for Uplift Nutrition
DESCRIPTION:Please join your Hoover Area Chamber of Commerce as we celebrate with Uplift Nutrition.
X-ALT-DESC;FMTTYPE=text/html:<span style="font-family:verdana\;">Please join your Hoover Area Chamber of Commerce as we celebrate with <strong>Uplift Nutrition.</strong>&nbsp\;</span>
LOCATION:Located at The Village at Lee Branch 1401 Doug Baker Blvd.\, Suite 103
UID:e.3294.1522
SEQUENCE:3
DTSTAMP:20260419T155311Z
URL:https://business.hooverchamber.org/events/details/ribbon-cutting-for-uplift-nutrition-1522
END:VEVENT

END:VCALENDAR
