BEGIN:VCALENDAR
VERSION:2.0
PRODID:-//ChamberMaster//Event Calendar 2.0//EN
METHOD:PUBLISH
X-PUBLISHED-TTL:P3D
REFRESH-INTERVAL:P3D
CALSCALE:GREGORIAN
BEGIN:VEVENT
DTSTART:20211005T133000Z
DTEND:20211005T143000Z
X-MICROSOFT-CDO-ALLDAYEVENT:FALSE
SUMMARY:Ribbon-cutting for Charleys Cheesesteaks
DESCRIPTION:Charleys Cheesesteaks opens its third national anchor location inside Walmart on John Hawkins Parkway. Join us as we celebrate with a ribbon-cutting!
X-ALT-DESC;FMTTYPE=text/html:<span style="font-family:verdana\;"><strong>Charleys Cheesesteaks</strong> opens its third national anchor location inside Walmart on John Hawkins Parkway. Join us as we celebrate with a ribbon-cutting!</span>
LOCATION:2780 John Hawkins Parkway (inside Walmart) Hoover\, Al 35244
UID:e.3294.1523
SEQUENCE:3
DTSTAMP:20260419T155919Z
URL:https://business.hooverchamber.org/events/details/ribbon-cutting-for-charleys-cheesesteaks-1523
END:VEVENT

END:VCALENDAR
