BEGIN:VCALENDAR
VERSION:2.0
PRODID:-//ChamberMaster//Event Calendar 2.0//EN
METHOD:PUBLISH
X-PUBLISHED-TTL:P3D
REFRESH-INTERVAL:P3D
CALSCALE:GREGORIAN
BEGIN:VEVENT
DTSTART:20220712T210000Z
DTEND:20220712T220000Z
X-MICROSOFT-CDO-ALLDAYEVENT:FALSE
SUMMARY:Ribbon Cutting Ceremony for The Steakhouse of Helena
DESCRIPTION:Ribbon Cutting Ceremony at The Steakhouse of Helena\n\n\n\nA small Steakhouse located in the heart of Old Town Helena\, AL in a Historical building dating back to the early 1900s. A family restaurant with made-from-scratch recipes\, southern hospitality\, and an at-home atmosphere. Bar\, Tables\, Patio and Private Party Room\, are available for rent anytime Sunday and Monday and until 3:00 Tuesday- Saturday.
X-ALT-DESC;FMTTYPE=text/html:<span style="font-family:times new roman\,serif\;"><span style="font-size:16.0pt\;">Ribbon Cutting Ceremony at The Steakhouse of Helena<br />\n<br />\nA small Steakhouse located in the heart of Old Town Helena\, AL in a Historical building dating back to the early 1900s. A family restaurant with made-from-scratch recipes\, southern hospitality\, and an at-home atmosphere.&nbsp\;</span></span><span style="font-family:times new roman\,serif\;"><span style="font-size:16.0pt\;">Bar\, Tables\, Patio and Private Party Room\, are&nbsp\;</span></span><span style="font-family:times new roman\,serif\;"><span style="font-size:16.0pt\;">available for rent anytime Sunday and Monday and until 3:00 Tuesday- Saturday.</span></span>
LOCATION:4079 Helena Road Helena\, AL 35007
UID:e.3294.1661
SEQUENCE:3
DTSTAMP:20260425T224447Z
URL:https://business.hooverchamber.org/events/details/ribbon-cutting-ceremony-for-the-steakhouse-of-helena-1661
END:VEVENT

END:VCALENDAR
