BEGIN:VCALENDAR
VERSION:2.0
PRODID:-//ChamberMaster//Event Calendar 2.0//EN
METHOD:PUBLISH
X-PUBLISHED-TTL:P3D
REFRESH-INTERVAL:P3D
CALSCALE:GREGORIAN
BEGIN:VEVENT
DTSTART:20221206T170000Z
DTEND:20221206T180000Z
X-MICROSOFT-CDO-ALLDAYEVENT:FALSE
SUMMARY:Ribbon Cutting Ceremony for Precision Tactical
DESCRIPTION:Ribbon Cutting Ceremony for Precision Tactical Arms Company's newest location
X-ALT-DESC;FMTTYPE=text/html:Ribbon Cutting Ceremony for Precision Tactical Arms Company&#39\;s newest location
LOCATION:105 Inverness Corners Suite 100 Hoover\, AL 35242
UID:e.3294.1703
SEQUENCE:3
DTSTAMP:20260425T173504Z
URL:https://business.hooverchamber.org/events/details/ribbon-cutting-ceremony-for-precision-tactical-1703
END:VEVENT

END:VCALENDAR
