BEGIN:VCALENDAR
VERSION:2.0
PRODID:-//ChamberMaster//Event Calendar 2.0//EN
METHOD:PUBLISH
X-PUBLISHED-TTL:P3D
REFRESH-INTERVAL:P3D
CALSCALE:GREGORIAN
BEGIN:VEVENT
DTSTART:20220809T213000Z
DTEND:20220809T223000Z
X-MICROSOFT-CDO-ALLDAYEVENT:FALSE
SUMMARY:Ribbon Cutting Ceremony for Player 1 Gaming
DESCRIPTION:Ribbon Cutting Ceremony for Player 1 Gaming\n\n\n\nLEVEL UP YOUR PARTY GAME!!\n\n\n\nFull-Service video game parties brought to you in Hoover\, Alabama!\n\n\n\nOur full-service gaming trailer offers:\n Room for 16 players inside with 5 gaming screens\, and even more on the 2 screens outside!\n\n \n\n      A Game Coach that keeps the party running smoothly.\n\n      A wide variety of games\, consoles\, and even VR games to keep everyone entertained.\n\n      Classic yard games like giant Connect 4 and Jenga.\n\n      Your choice in-game rating level to make sure the maturity level of the games are appropriate for your guests.
X-ALT-DESC;FMTTYPE=text/html:<span style="font-size:16px\;"><span style="font-family:times new roman\;"><span style="font-size:24px\;">Ribbon Cutting Ceremony for Player 1 Gaming</span></span></span><br />\n<br />\n<span style="font-size:22px\;"><span style="color: black\;">LEVEL UP YOUR PARTY GAME!!<br />\n<br />\nFull-Service video game parties brought to you in Hoover\, Alabama!</span><br />\n<br />\n<b><span style="color: black\;">Our full-service gaming trailer offers:</span></b></span>\n<p class="MsoNormal" style="margin-bottom:0in\;line-height:normal\;vertical-align:\nbaseline"><span style="font-size:22px\;"><span style="color: black\; border: 1pt none windowtext\; padding: 0in\;">&#8203\;</span></span><span style="font-size:\n13.5pt\;font-family:&quot\;Arial&quot\;\,sans-serif\;mso-fareast-font-family:&quot\;Times New Roman&quot\;\;\ncolor:black"><o:p></o:p></span><span style="font-size:22px\;"><span style="color: black\; text-indent: -0.25in\;">Room for 16 players inside with 5 gaming screens\, and even more on the 2 screens outside!</span></span><br />\n&nbsp\;</p>\n\n<p class="MsoNormal" style="margin: 0in 0in 0in 42pt\; text-indent: -0.25in\; line-height: normal\; vertical-align: baseline\;"><span style="font-size:22px\;"><span style="color: black\;">&middot\;<span style="font-variant-numeric: normal\; font-variant-east-asian: normal\; font-stretch: normal\; line-height: normal\;">&nbsp\;&nbsp\;&nbsp\;&nbsp\;&nbsp\;</span>A Game Coach that keeps the party running smoothly.</span></span><span style="font-size: 13.5pt\; font-family: Arial\, sans-serif\; color: black\;"><o:p></o:p></span></p>\n\n<p class="MsoNormal" style="margin: 0in 0in 0in 42pt\; text-indent: -0.25in\; line-height: normal\; vertical-align: baseline\;"><span style="font-size:22px\;"><span style="color: black\;">&middot\;<span style="font-variant-numeric: normal\; font-variant-east-asian: normal\; font-stretch: normal\; line-height: normal\;">&nbsp\;&nbsp\;&nbsp\;&nbsp\;&nbsp\;</span>A wide variety of games\, consoles\, and even VR games to keep everyone entertained.</span></span><span style="font-size: 13.5pt\; font-family: Arial\, sans-serif\; color: black\;"><o:p></o:p></span></p>\n\n<p class="MsoNormal" style="margin: 0in 0in 0in 42pt\; text-indent: -0.25in\; line-height: normal\; vertical-align: baseline\;"><span style="font-size:22px\;"><span style="color: black\;">&middot\;<span style="font-variant-numeric: normal\; font-variant-east-asian: normal\; font-stretch: normal\; line-height: normal\;">&nbsp\;&nbsp\;&nbsp\;&nbsp\;&nbsp\;</span>Classic yard games like giant Connect 4 and Jenga.</span></span><span style="font-size: 13.5pt\; font-family: Arial\, sans-serif\; color: black\;"><o:p></o:p></span></p>\n\n<p class="MsoNormal" style="margin: 0in 0in 0in 42pt\; text-indent: -0.25in\; line-height: normal\; vertical-align: baseline\;"><span style="font-size:22px\;"><span style="color: black\;">&middot\;<span style="font-variant-numeric: normal\; font-variant-east-asian: normal\; font-stretch: normal\; line-height: normal\;">&nbsp\;&nbsp\;&nbsp\;&nbsp\;&nbsp\;</span>Your choice in-game rating level to make sure the maturity level of the games are appropriate for your guests.</span></span></p>\n\n<p class="MsoNormal" style="margin-top:0in\;margin-right:0in\;margin-bottom:0in\;\nmargin-left:42.0pt\;text-indent:-.25in\;line-height:normal\;mso-list:l0 level1 lfo1\;\ntab-stops:list .5in\;vertical-align:baseline">&nbsp\;</p>\n
LOCATION:Crunch Fitness Parking Lot 1694 Montgomery Highway Hoover\, AL 35216
UID:e.3294.1669
SEQUENCE:3
DTSTAMP:20260425T222538Z
URL:https://business.hooverchamber.org/events/details/ribbon-cutting-ceremony-for-player-1-gaming-1669
END:VEVENT

END:VCALENDAR
