BEGIN:VCALENDAR
VERSION:2.0
PRODID:-//ChamberMaster//Event Calendar 2.0//EN
METHOD:PUBLISH
X-PUBLISHED-TTL:P3D
REFRESH-INTERVAL:P3D
CALSCALE:GREGORIAN
BEGIN:VEVENT
DTSTART:20221018T203000Z
DTEND:20221018T213000Z
X-MICROSOFT-CDO-ALLDAYEVENT:FALSE
SUMMARY:Ribbon Cutting Ceremony for Millennial Bank
DESCRIPTION:Ribbon Cutting Ceremony for Millennial Bank\n\n \nWhether you are a business owner\, nonprofit group\, government agency\, school administrator or personal account holder   you are not just a Millennial Bank customer\; you are our friend and neighbor. By taking the extra time to get to know you\, we are better able to serve your needs. Those needs and your plans for the future are very important to us. If you are looking for financial assistance or business advice and information you can trust\, you want a bank whose commitment to you is not limited by the size of your balance. Millennial Bank has been that institution to families and businesses across the region for over two decades.\n\nAs we continue to grow\, our dedication to our employees and customers grows as well. That dedication    to you and to our community   gives us a distinct advantage. As your neighbor and local bank\, we understand your personal needs and are able to assist you immediately and effectively.
X-ALT-DESC;FMTTYPE=text/html:<span style="font-size:16px\;"><span style="font-family:verdana\;">Ribbon Cutting Ceremony for Millennial Bank</span></span><br />\n&nbsp\;\n<p style="box-sizing: border-box\; margin: 0px 0px 26px\; padding: 0px\; border: 0px\; font-variant-numeric: inherit\; font-variant-east-asian: inherit\; font-stretch: inherit\; font-size: 1.24em\; line-height: 28px\; font-family: Lato\, Arial\; vertical-align: baseline\; color: rgb(68\, 68\, 68)\;"><span style="font-size:16px\;"><span style="font-family:verdana\;">Whether you are a business owner\, nonprofit group\, government agency\, school administrator or personal account holder &ndash\; you are not just a Millennial Bank customer\; you are our friend and neighbor. By taking the extra time to get to know you\, we are better able to serve your needs. Those needs and your plans for the future are very important to us. If you are looking for financial assistance or business advice and information you can trust\, you want a bank whose commitment to you is not limited by the size of your balance. Millennial Bank has been that institution to families and businesses across the region for over two decades.</span></span></p>\n\n<p style="box-sizing: border-box\; margin: 0px 0px 26px\; padding: 0px\; border: 0px\; font-variant-numeric: inherit\; font-variant-east-asian: inherit\; font-stretch: inherit\; font-size: 1.24em\; line-height: 28px\; font-family: Lato\, Arial\; vertical-align: baseline\; color: rgb(68\, 68\, 68)\;"><span style="font-size:16px\;"><span style="font-family:verdana\;">As we continue to grow\, our dedication to our employees and customers grows as well. That dedication &not\;&ndash\; to you and to our community &ndash\; gives us a distinct advantage. As your neighbor and local bank\, we understand your personal needs and are able to assist you immediately and effectively.</span></span></p>\n
LOCATION:20 Meadowview Drive Hoover\, AL 35242
UID:e.3294.1692
SEQUENCE:3
DTSTAMP:20260425T173630Z
URL:https://business.hooverchamber.org/events/details/ribbon-cutting-ceremony-for-millennial-bank-1692
END:VEVENT

END:VCALENDAR
