BEGIN:VCALENDAR
VERSION:2.0
PRODID:-//ChamberMaster//Event Calendar 2.0//EN
METHOD:PUBLISH
X-PUBLISHED-TTL:P3D
REFRESH-INTERVAL:P3D
CALSCALE:GREGORIAN
BEGIN:VEVENT
DTSTART:20221116T150000Z
DTEND:20221116T160000Z
X-MICROSOFT-CDO-ALLDAYEVENT:FALSE
SUMMARY:Ribbon Cutting Ceremony for Dental Care of Hoover
DESCRIPTION:Ribbon Cutting Ceremony for Dental Care of Hoover\n\n\n\nAt Dental Care of Hoover\, our number one goal is to provide the people of Hoover\, Alabama with comprehensive\, affordable dental care.  Our team of technicians\, hygienists\, and dentists will work with you to develop a treatment plan that is custom tailored to your unique needs.  We utilize state-of-the-art technology so we can analyze and diagnose with extraordinary accuracy.  At Dental Care of Hoover we are committed to offering the people of Hoover\, Alabama dental services that are effective\, convenient\, and affordable.
X-ALT-DESC;FMTTYPE=text/html:<span style="font-size:18px\;"><span style="font-family:verdana\;">Ribbon Cutting Ceremony for Dental Care of Hoover<br />\n<br />\n<span style="color: rgb(74\, 74\, 74)\; background-color: rgb(249\, 249\, 249)\;">At Dental Care of Hoover\, our number one goal is to provide the people of Hoover\, Alabama with comprehensive\, affordable dental care.&nbsp\; Our team of technicians\, hygienists\, and dentists will work with you to develop a treatment plan that is custom tailored to your unique needs.&nbsp\; We utilize state-of-the-art technology so we can analyze and diagnose with extraordinary accuracy.&nbsp\; At Dental Care of Hoover we are committed to offering the people of Hoover\, Alabama dental services that are effective\, convenient\, and affordable.</span></span></span>
LOCATION:3720 John Hawkins Parkway Hoover\, Al 35244
UID:e.3294.1701
SEQUENCE:3
DTSTAMP:20260425T173959Z
URL:https://business.hooverchamber.org/events/details/ribbon-cutting-ceremony-for-dental-care-of-hoover-1701
END:VEVENT

END:VCALENDAR
