BEGIN:VCALENDAR
VERSION:2.0
PRODID:-//ChamberMaster//Event Calendar 2.0//EN
METHOD:PUBLISH
X-PUBLISHED-TTL:P3D
REFRESH-INTERVAL:P3D
CALSCALE:GREGORIAN
BEGIN:VEVENT
DTSTART:20221103T160000Z
DTEND:20221103T170000Z
X-MICROSOFT-CDO-ALLDAYEVENT:FALSE
SUMMARY:Ribbon Cutting Ceremony for B Photo\, Supplies and Framing
DESCRIPTION:Ribbon Cutting Ceremony at B Photo\, Supplies and Framing
X-ALT-DESC;FMTTYPE=text/html:Ribbon Cutting Ceremony at B Photo\, Supplies and Framing
LOCATION:1401 Doug Baker Boulevard Suite 109 Hoover\, AL 35242
UID:e.3294.1708
SEQUENCE:3
DTSTAMP:20260425T173806Z
URL:https://business.hooverchamber.org/events/details/ribbon-cutting-ceremony-for-b-photo-supplies-and-framing-1708
END:VEVENT

END:VCALENDAR
