BEGIN:VCALENDAR
VERSION:2.0
PRODID:-//ChamberMaster//Event Calendar 2.0//EN
METHOD:PUBLISH
X-PUBLISHED-TTL:P3D
REFRESH-INTERVAL:P3D
CALSCALE:GREGORIAN
BEGIN:VEVENT
DTSTART:20211109T170000Z
DTEND:20211109T180000Z
X-MICROSOFT-CDO-ALLDAYEVENT:FALSE
SUMMARY:Ribbon Cutting Ceremony for All Star Realty
DESCRIPTION:Ribbon Cutting at All Star Realty
X-ALT-DESC;FMTTYPE=text/html:Ribbon Cutting at All Star Realty
LOCATION:2030-A Columbiana Road Birmingham\, AL 35216 205-276-2022
UID:e.3294.1528
SEQUENCE:3
DTSTAMP:20260419T174641Z
URL:https://business.hooverchamber.org/events/details/ribbon-cutting-ceremony-for-all-star-realty-1528
END:VEVENT

END:VCALENDAR
