BEGIN:VCALENDAR
VERSION:2.0
PRODID:-//ChamberMaster//Event Calendar 2.0//EN
METHOD:PUBLISH
X-PUBLISHED-TTL:P3D
REFRESH-INTERVAL:P3D
CALSCALE:GREGORIAN
BEGIN:VEVENT
DTSTART:20211105T190000Z
DTEND:20211105T210000Z
X-MICROSOFT-CDO-ALLDAYEVENT:FALSE
SUMMARY:Ribbon Cutting Ceremony at Pleasure is All Wine
DESCRIPTION:Join us for a Ribbon Cutting Ceremony and Wine Tasting at Pleasure is All Wine
X-ALT-DESC;FMTTYPE=text/html:Join us for a Ribbon Cutting Ceremony and Wine Tasting at Pleasure is All Wine
LOCATION:1581 Montgomery Highway Suite 101 Hoover\, AL 35216 205-490-1993
UID:e.3294.1521
SEQUENCE:3
DTSTAMP:20260419T194538Z
URL:https://business.hooverchamber.org/events/details/ribbon-cutting-ceremony-at-pleasure-is-all-wine-1521
END:VEVENT

END:VCALENDAR
