BEGIN:VCALENDAR
VERSION:2.0
PRODID:-//ChamberMaster//Event Calendar 2.0//EN
METHOD:PUBLISH
X-PUBLISHED-TTL:P3D
REFRESH-INTERVAL:P3D
CALSCALE:GREGORIAN
BEGIN:VEVENT
DTSTART:20220413T170000Z
DTEND:20220413T180000Z
X-MICROSOFT-CDO-ALLDAYEVENT:FALSE
SUMMARY:Ribbon Cutting Ceremony at Matthew 25:35 Outreach Organization
DESCRIPTION:
X-ALT-DESC;FMTTYPE=text/html:
LOCATION:5511 Highway 280 Suite 116 Birmingham\, AL 3542
UID:e.3294.1634
SEQUENCE:3
DTSTAMP:20260426T042450Z
URL:https://business.hooverchamber.org/events/details/ribbon-cutting-ceremony-at-matthew-25-35-outreach-organization-1634
END:VEVENT

END:VCALENDAR
