BEGIN:VCALENDAR
VERSION:2.0
PRODID:-//ChamberMaster//Event Calendar 2.0//EN
METHOD:PUBLISH
X-PUBLISHED-TTL:P3D
REFRESH-INTERVAL:P3D
CALSCALE:GREGORIAN
BEGIN:VEVENT
DTSTART:20211110T220000Z
DTEND:20211110T230000Z
X-MICROSOFT-CDO-ALLDAYEVENT:FALSE
SUMMARY:Ribbon Cutting Ceremony at FAB Fruit formerly Kaye's City Bowls
DESCRIPTION:Ribbon Cutting Ceremony at FAB Fruit formerly Kaye's City Bowls
X-ALT-DESC;FMTTYPE=text/html:Ribbon Cutting Ceremony at FAB Fruit formerly Kaye&#39\;s City Bowls
LOCATION:5220 Peridot Place Suite 112 Hoover\, AL 35244 205-243-5092
UID:e.3294.1530
SEQUENCE:3
DTSTAMP:20260419T174908Z
URL:https://business.hooverchamber.org/events/details/ribbon-cutting-ceremony-at-fab-fruit-formerly-kaye-s-city-bowls-1530
END:VEVENT

END:VCALENDAR
