BEGIN:VCALENDAR
VERSION:2.0
PRODID:-//ChamberMaster//Event Calendar 2.0//EN
METHOD:PUBLISH
X-PUBLISHED-TTL:P3D
REFRESH-INTERVAL:P3D
CALSCALE:GREGORIAN
BEGIN:VEVENT
DTSTART:20221028T220000Z
DTEND:20221029T000000Z
X-MICROSOFT-CDO-ALLDAYEVENT:FALSE
SUMMARY:Ribbon Cutting Ceremony at Element Wellness Center
DESCRIPTION:Ribbon Cutting Ceremony at Element Wellness Center\n\n\n\nOnly Element Wellness delivers a system of total balance\, energy and proactive healing that allows you to feel your best\, reach your full potential and do more of what you love. We do this through use of the 8 elements of Natural Wellness.\n\nWe believe in nurturing the body and leveraging strategic\, controlled stressors inspired by nature. Our methodology helps empower your body to do what it was designed to do with as little intervention as possible.
X-ALT-DESC;FMTTYPE=text/html:<span style="font-size:16px\;"><span style="font-family:verdana\;">Ribbon Cutting Ceremony at Element Wellness Center<br />\n<br />\n<span style="border:none windowtext 1.0pt\;padding:0in\;">Only Element Wellness delivers a system of total balance\, energy and proactive healing that allows you to feel your best\, reach your full potential and do more of what you love. We do this through use of the 8 elements of Natural Wellness.</span><br />\n<span style="outline:0px\;"><span style="border:none windowtext 1.0pt\;padding:0in\;">We believe in nurturing the body and leveraging strategic\, controlled stressors inspired by nature. Our methodology helps empower your body to do what it was designed to do with as little intervention as possible.</span></span></span></span><br />\n<br />\n&nbsp\;\n<p class="font_8" style="margin: 0px\; padding: 0px\; border: 0px\; outline: 0px\; vertical-align: baseline\; background: transparent\; pointer-events: auto\; font-size: 16px\; color: rgb(var(--color_25))\; text-align: center\;">&nbsp\;</p>\n
LOCATION:6600 Tattersall Lane Hoover\, AL 35242
UID:e.3294.1696
SEQUENCE:3
DTSTAMP:20260425T173623Z
URL:https://business.hooverchamber.org/events/details/ribbon-cutting-ceremony-at-element-wellness-center-1696
END:VEVENT

END:VCALENDAR
