BEGIN:VCALENDAR
VERSION:2.0
PRODID:-//ChamberMaster//Event Calendar 2.0//EN
METHOD:PUBLISH
X-PUBLISHED-TTL:P3D
REFRESH-INTERVAL:P3D
CALSCALE:GREGORIAN
BEGIN:VEVENT
DTSTART:20211117T170000Z
DTEND:20211117T180000Z
X-MICROSOFT-CDO-ALLDAYEVENT:FALSE
SUMMARY:Ribbon Cutting Ceremony at Clean Eatz Hoover
DESCRIPTION:Ribbon Cutting Ceremony at Clean Eatz Hoover
X-ALT-DESC;FMTTYPE=text/html:Ribbon Cutting Ceremony at Clean Eatz Hoover
LOCATION:1021 Brocks Gap Parkway Hoover\, AL 35244 205-446-9188
UID:e.3294.1534
SEQUENCE:3
DTSTAMP:20260419T174951Z
URL:https://business.hooverchamber.org/events/details/ribbon-cutting-ceremony-at-clean-eatz-hoover-1534
END:VEVENT

END:VCALENDAR
