BEGIN:VCALENDAR
VERSION:2.0
PRODID:-//ChamberMaster//Event Calendar 2.0//EN
METHOD:PUBLISH
X-PUBLISHED-TTL:P3D
REFRESH-INTERVAL:P3D
CALSCALE:GREGORIAN
BEGIN:VEVENT
DTSTART:20220824T170000Z
DTEND:20220824T170000Z
X-MICROSOFT-CDO-ALLDAYEVENT:FALSE
SUMMARY:Ribbon Cutting Ceremony at Annie's True Love Child Development Center
DESCRIPTION:Ribbon Cutting Ceremony for Annie's True Love Child Development Center.\n\n\n\nWe are a daycare located in Hoover\, AL. we specialize in childcare for children ages six weeks to twelve years old. Our goal is to provide a fun and safe learning environment for your child while encouraging social\, emotional\, intellectual\, and physical development. Your child will receive quality\, personal\, and individualized care in a warm and loving environment\, where they can feel safe and happy and can begin to build confidence and a positive self-image.\n\n\n\nOur facility is designed to provide large\, dedicated areas for the children to actively learn and play in\; a stimulating environment with spacious rooms rich in color giving each child an exciting world full of opportunities to explore\, learn\, and grow. Furthermore\, we maintain a low teacher-to-child ratio. Therefore\, your child will receive the kind of close attention he or she deserves\, nurturing a foundation for development and helping to enable your child to reach their full potential. We have daily devotion and Spanish classes available. All of our employees are CPR Certified\, and we have a licensed LPN on staff.\n\n\n\nVisit our website: Annie's True Love Child Developmental Center (anniestruelove.com)
X-ALT-DESC;FMTTYPE=text/html:<span style="font-family:verdana\;"><span style="font-size:14px\;"><span style="color:#000000\;"><span style="letter-spacing: 1.2pt\;">Ribbon Cutting Ceremony for Annie&#39\;s True Love Child Development Center.<br />\n<br />\nWe are a daycare located in Hoover\, AL. we specialize in childcare for children ages six weeks to twelve years old. Our goal is to provide a fun and safe learning environment for your child while encouraging social\, emotional\, intellectual\, and physical development. Your child will receive quality\, personal\, and individualized care in a warm and loving environment\, where they can feel safe and happy and can begin to build confidence and a positive self-image.</span><br style="color: rgba(6\, 29\, 239\, 0.7)\; font-family: bebas-neue\; font-size: 21px\; letter-spacing: 1.575px\;" />\n<br />\n<span style="letter-spacing: 1.2pt\;">Our facility is designed to provide large\, dedicated areas for the children to actively learn and play in\; a stimulating environment with spacious rooms rich in color giving each child an exciting world full of opportunities to explore\, learn\, and grow. Furthermore\, we maintain a low teacher-to-child ratio. Therefore\, your child will receive the kind of close attention he or she deserves\, nurturing a foundation for development and helping to enable your child to reach their full potential. We have daily devotion and Spanish classes available. All of our employees are CPR Certified\, and we have a licensed LPN on staff.<br />\n<br />\nVisit our website:&nbsp\;</span></span></span><a href="http://www.anniestruelove.com/">Annie&#39\;s True Love Child Developmental Center (anniestruelove.com)</a></span>
LOCATION:2424 Hackberry Lane Hoover\, AL 35226
UID:e.3294.1668
SEQUENCE:3
DTSTAMP:20260425T204703Z
URL:https://business.hooverchamber.org/events/details/ribbon-cutting-ceremony-at-annie-s-true-love-child-development-center-1668
END:VEVENT

END:VCALENDAR
