BEGIN:VCALENDAR
VERSION:2.0
PRODID:-//ChamberMaster//Event Calendar 2.0//EN
METHOD:PUBLISH
X-PUBLISHED-TTL:P3D
REFRESH-INTERVAL:P3D
CALSCALE:GREGORIAN
BEGIN:VEVENT
DTSTART:20220405T150000Z
DTEND:20220405T153000Z
X-MICROSOFT-CDO-ALLDAYEVENT:FALSE
SUMMARY:Ribbon Cutting at Goldfish Swim School
DESCRIPTION:Ribbon Cutting at Goldfish Swim School
X-ALT-DESC;FMTTYPE=text/html:Ribbon Cutting at Goldfish Swim School
LOCATION:5549 Grove Boulevard Hoover\, AL 35226
UID:e.3294.1621
SEQUENCE:3
DTSTAMP:20260426T024817Z
URL:https://business.hooverchamber.org/events/details/ribbon-cutting-at-goldfish-swim-school-1621
END:VEVENT

END:VCALENDAR
