BEGIN:VCALENDAR
VERSION:2.0
PRODID:-//ChamberMaster//Event Calendar 2.0//EN
METHOD:PUBLISH
X-PUBLISHED-TTL:P3D
REFRESH-INTERVAL:P3D
CALSCALE:GREGORIAN
BEGIN:VEVENT
DTSTART:20220711T140000Z
DTEND:20220711T190000Z
X-MICROSOFT-CDO-ALLDAYEVENT:FALSE
SUMMARY:Red Cross Blood Drive
DESCRIPTION:Hoover Metro Kiwanis Club is sponsoring a Red Cross Blood Drive at the Hoover Library. Walk ins are welcome.
X-ALT-DESC;FMTTYPE=text/html:Hoover Metro Kiwanis Club is sponsoring a Red Cross Blood Drive at the Hoover Library. Walk ins are welcome.
LOCATION:Hoover Library
UID:e.3294.1664
SEQUENCE:3
DTSTAMP:20260425T234938Z
URL:https://business.hooverchamber.org/events/details/red-cross-blood-drive-1664
END:VEVENT

END:VCALENDAR
