BEGIN:VCALENDAR
VERSION:2.0
PRODID:-//ChamberMaster//Event Calendar 2.0//EN
METHOD:PUBLISH
X-PUBLISHED-TTL:P3D
REFRESH-INTERVAL:P3D
CALSCALE:GREGORIAN
BEGIN:VEVENT
DTSTART:20220412T210000Z
DTEND:20220412T230000Z
X-MICROSOFT-CDO-ALLDAYEVENT:FALSE
SUMMARY:Professional Headshot Day at the Crossings at Riverchase
DESCRIPTION:Everything starts with a first impression. Stop by for a visit at Hoover's newest senior living community and have your very own professional headshot taken at this special event. While you're here\, meet some of the friendly faces within our community and see our vibrant amenities\, including a fitness center\, full-service salon/barber shop\, theater and lounge. You'll receive your complimentary digital headshots at a later date so be sure to capture this opportunity! Cocktails and hors d'oeuvres will be served.
X-ALT-DESC;FMTTYPE=text/html:Everything starts with a first impression. Stop by for a visit at Hoover&#39\;s newest senior living community and have your very own professional headshot taken at this special event. While you&#39\;re here\, meet some of the friendly faces within our community and see our vibrant amenities\, including a fitness center\, full-service salon/barber shop\, theater and lounge. You&#39\;ll receive your complimentary digital headshots at a later date so be sure to capture this opportunity! Cocktails and hors d&#39\;oeuvres will be served.
LOCATION:The Crossings at Riverchase 2171 Parkway Lake Drive Hoover\, AL 35244
UID:e.3294.1629
SEQUENCE:3
DTSTAMP:20260426T024944Z
URL:https://business.hooverchamber.org/events/details/professional-headshot-day-at-the-crossings-at-riverchase-1629
END:VEVENT

END:VCALENDAR
