BEGIN:VCALENDAR
VERSION:2.0
PRODID:-//ChamberMaster//Event Calendar 2.0//EN
METHOD:PUBLISH
X-PUBLISHED-TTL:P3D
REFRESH-INTERVAL:P3D
CALSCALE:GREGORIAN
BEGIN:VEVENT
DTSTART:20220405T130000Z
DTEND:20220405T220000Z
X-MICROSOFT-CDO-ALLDAYEVENT:FALSE
SUMMARY:Please join us for a Blood Drive honoring Michael Harrington
DESCRIPTION:Michael Harrington was born in 1955 in San Fernando Valley of Los Angeles\, The third child of incredible parents\, Michael sought a career that would not only provide for his family\, but would also serve a higher purpose-and he certainly succeeded. Michael graduated from the Los Angeles Police Academy 1977 and made his way to becoming a Sergeant working Motors. Michael found a special interest in making the streets of Los Angeles safer through an emphasis on stopping and arresting intoxicated drivers\, He went on to lead his own small but highly effective unit focused on Habitual Deuce Watch (H2O). He and his team were credited with extreme success in keeping repeat drunk drivers off the road.\n\n\n\nMichael is the brother-in-law of Jim Durkin\, the Express Oil Change and Tire Engineers and Brakes Plus CEO.
X-ALT-DESC;FMTTYPE=text/html:Michael Harrington was born in 1955 in San Fernando Valley of Los Angeles\, The third child of incredible parents\, Michael sought a career that would not only provide for his family\, but would also serve a higher purpose-and he certainly succeeded. Michael graduated from the Los Angeles Police Academy 1977 and made his way to becoming a Sergeant working Motors. Michael found a special interest in making the streets of Los Angeles safer through an emphasis on stopping and arresting intoxicated drivers\, He went on to lead his own small but highly effective unit focused on Habitual Deuce Watch (H2O). He and his team were credited with extreme success in keeping repeat drunk drivers off the road.<br />\n<br />\nMichael is the brother-in-law of Jim Durkin\, the Express Oil Change and Tire Engineers and Brakes Plus CEO.
LOCATION:1870 Southpark Drive Hoover\, AL 35244
UID:e.3294.1636
SEQUENCE:3
DTSTAMP:20260426T024731Z
URL:https://business.hooverchamber.org/events/details/please-join-us-for-a-blood-drive-honoring-michael-harrington-1636
END:VEVENT

END:VCALENDAR
