BEGIN:VCALENDAR
VERSION:2.0
PRODID:-//ChamberMaster//Event Calendar 2.0//EN
METHOD:PUBLISH
X-PUBLISHED-TTL:P3D
REFRESH-INTERVAL:P3D
CALSCALE:GREGORIAN
BEGIN:VEVENT
DTSTART:20240301T140000Z
DTEND:20240301T230000Z
X-MICROSOFT-CDO-ALLDAYEVENT:FALSE
SUMMARY:OLIS - Online Learning Innovation Summit
DESCRIPTION:The Online Learning Innovation Summit is a professional development conference that brings together faculty\, staff\, graduate students\, K-12 teachers and administrators from The University of Alabama and the Southeast. This one-day summit was created to provide an environment of collaboration\, innovation and networking for people in the education field. Attendees will brainstorm\, problem-solve and share experiences and best practices surrounding online learning and teaching technologies. The presentations\, workshops and demonstrations during this event will continue the discussion of current and future online learning practices. We can't wait to see you at OLIS 2024 on Friday\, March 1. at Bryant Conference Center in Tuscaloosa\, AL! Registration is REQUIRED and free for this full day event.
X-ALT-DESC;FMTTYPE=text/html:The Online Learning Innovation Summit is a professional development conference that brings together faculty\, staff\, graduate students\, K-12 teachers and administrators from The University of Alabama and the Southeast. This one-day summit was created to provide an environment of collaboration\, innovation and networking for people in the education field. Attendees will brainstorm\, problem-solve and share experiences and best practices surrounding online learning and teaching technologies. The presentations\, workshops and demonstrations during this event will continue the discussion of current and future online learning practices. We can&rsquo\;t wait to see you at OLIS 2024 on Friday\, March 1. at Bryant Conference Center in Tuscaloosa\, AL! Registration is REQUIRED and free for this full day event.
LOCATION:Bryant Conference Center
UID:e.3294.3657
SEQUENCE:3
DTSTAMP:20260421T064015Z
URL:https://business.hooverchamber.org/events/details/olis-online-learning-innovation-summit-3657
END:VEVENT

END:VCALENDAR
