BEGIN:VCALENDAR
VERSION:2.0
PRODID:-//ChamberMaster//Event Calendar 2.0//EN
METHOD:PUBLISH
X-PUBLISHED-TTL:P3D
REFRESH-INTERVAL:P3D
CALSCALE:GREGORIAN
BEGIN:VEVENT
DTSTART:20221013T123000Z
DTEND:20221013T140000Z
X-MICROSOFT-CDO-ALLDAYEVENT:FALSE
SUMMARY:October Coffee & Contacts
DESCRIPTION:October Coffee & Contacts at Courtyard Marriott Hoover
X-ALT-DESC;FMTTYPE=text/html:October Coffee &amp\; Contacts at Courtyard Marriott Hoover
LOCATION:1824 Montgomery Highway S. Hoover\, AL 35244
UID:e.3294.1612
SEQUENCE:3
DTSTAMP:20260425T175931Z
URL:https://business.hooverchamber.org/events/details/october-coffee-contacts-1612
END:VEVENT

END:VCALENDAR
