BEGIN:VCALENDAR
VERSION:2.0
PRODID:-//ChamberMaster//Event Calendar 2.0//EN
METHOD:PUBLISH
X-PUBLISHED-TTL:P3D
REFRESH-INTERVAL:P3D
CALSCALE:GREGORIAN
BEGIN:VEVENT
DTSTART:20211021T161500Z
DTEND:20211021T180000Z
X-MICROSOFT-CDO-ALLDAYEVENT:FALSE
SUMMARY:October Chamber Luncheon
DESCRIPTION:Program Description: October Hoover Area Chamber of Commerce Luncheon\n\nThe State of Education with Dr. Dee Fowler\, Hoover City Schools Superintendent
X-ALT-DESC;FMTTYPE=text/html:<strong>Program Description</strong>: October Hoover Area Chamber of Commerce Luncheon<br />\nThe State of Education with <strong>Dr. Dee Fowler</strong>\, Hoover City Schools Superintendent&nbsp\;
LOCATION:Venue: Hyatt Regency Birmingham-The Wynfrey Hotel\,1000 Riverchase Galleria\, Hoover\, AL 35244
UID:e.3294.1507
SEQUENCE:3
DTSTAMP:20260419T155104Z
URL:https://business.hooverchamber.org/events/details/october-chamber-luncheon-1507
END:VEVENT

END:VCALENDAR
