BEGIN:VCALENDAR
VERSION:2.0
PRODID:-//ChamberMaster//Event Calendar 2.0//EN
METHOD:PUBLISH
X-PUBLISHED-TTL:P3D
REFRESH-INTERVAL:P3D
CALSCALE:GREGORIAN
BEGIN:VEVENT
DTSTART:20211028T213000Z
DTEND:20211028T230000Z
X-MICROSOFT-CDO-ALLDAYEVENT:FALSE
SUMMARY:October Business After Hours
DESCRIPTION:October Business After Hours at Oaks on Parkwood
X-ALT-DESC;FMTTYPE=text/html:October Business After Hours at Oaks on Parkwood
LOCATION:2651 Laurel Oaks Drive Bessemer\, AL 35022 205-497-4570
UID:e.3294.1508
SEQUENCE:3
DTSTAMP:20260419T174040Z
URL:https://business.hooverchamber.org/events/details/october-business-after-hours-1508
END:VEVENT

END:VCALENDAR
