BEGIN:VCALENDAR
VERSION:2.0
PRODID:-//ChamberMaster//Event Calendar 2.0//EN
METHOD:PUBLISH
X-PUBLISHED-TTL:P3D
REFRESH-INTERVAL:P3D
CALSCALE:GREGORIAN
BEGIN:VEVENT
DTSTART:20211118T171500Z
DTEND:20211118T190000Z
X-MICROSOFT-CDO-ALLDAYEVENT:FALSE
SUMMARY:November Chamber Membership Luncheon
DESCRIPTION:November Chamber Luncheon at Market Noel - Public Safety Awards\n\n\n\nPlease join us as we celebrate our Police Officer\, Fire Fighter\, 911 Operator and Paramedic of the Year along with hearing from our special guest speaker Mr. Bud Cason of Bud's Best Cookies.
X-ALT-DESC;FMTTYPE=text/html:<strong>November Chamber Luncheon </strong>at <strong>Market Noel - Public Safety Awards</strong><br />\n<br />\nPlease join us as we celebrate our <strong>Police Officer\, Fire Fighter\, 911 Operator and Paramedic of the Year</strong> along with hearing from our special guest speaker <strong>Mr. Bud Cason of Bud&#39\;s Best Cookies.</strong>&nbsp\;&nbsp\;<br />\n<br />\n&nbsp\;
LOCATION:The Finley Center at the Hoover Met Complex Market Noel - Special Events Area 5508 Stadium Trace Parkway Hoover\, Alabama 35244
UID:e.3294.1509
SEQUENCE:3
DTSTAMP:20260419T174217Z
URL:https://business.hooverchamber.org/events/details/november-chamber-membership-luncheon-1509
END:VEVENT

END:VCALENDAR
