BEGIN:VCALENDAR
VERSION:2.0
PRODID:-//ChamberMaster//Event Calendar 2.0//EN
METHOD:PUBLISH
X-PUBLISHED-TTL:P3D
REFRESH-INTERVAL:P3D
CALSCALE:GREGORIAN
BEGIN:VEVENT
DTSTART:20220822T150000Z
DTEND:20220822T160000Z
X-MICROSOFT-CDO-ALLDAYEVENT:FALSE
SUMMARY:New Member Orientation
DESCRIPTION:New Members Orientation
X-ALT-DESC;FMTTYPE=text/html:New Members Orientation
LOCATION:Hoover Chamber Office 3000 Riverchase Galleria Suite 375 Hoover\, AL 35244
UID:e.3294.1671
SEQUENCE:3
DTSTAMP:20260425T204318Z
URL:https://business.hooverchamber.org/events/details/new-member-orientation-1671
END:VEVENT

END:VCALENDAR
