BEGIN:VCALENDAR
VERSION:2.0
PRODID:-//ChamberMaster//Event Calendar 2.0//EN
METHOD:PUBLISH
X-PUBLISHED-TTL:P3D
REFRESH-INTERVAL:P3D
CALSCALE:GREGORIAN
BEGIN:VEVENT
DTSTART:20220412T220000Z
DTEND:20220412T233000Z
X-MICROSOFT-CDO-ALLDAYEVENT:FALSE
SUMMARY:Meet Our Coaches
DESCRIPTION:Meet Our Coaches\n\nSponsored by loanDepot\n\n\n\nCome help us welcome\n\nCoach Vakakes-Spain Park\n\nCoach Waldrop-Hoover High School
X-ALT-DESC;FMTTYPE=text/html:<br />\nMeet Our Coaches<br />\nSponsored by loanDepot<br />\n<br />\nCome help us welcome<br />\nCoach Vakakes-Spain Park<br />\nCoach Waldrop-Hoover High School<br />\n&nbsp\;
LOCATION:Riverchase Career Connections (RC3) 2810 Metropolitan Way Hoover\, AL 35243
UID:e.3294.1628
SEQUENCE:3
DTSTAMP:20260426T024613Z
URL:https://business.hooverchamber.org/events/details/meet-our-coaches-1628
END:VEVENT

END:VCALENDAR
