BEGIN:VCALENDAR
VERSION:2.0
PRODID:-//ChamberMaster//Event Calendar 2.0//EN
METHOD:PUBLISH
X-PUBLISHED-TTL:P3D
REFRESH-INTERVAL:P3D
CALSCALE:GREGORIAN
BEGIN:VEVENT
DTSTART:20220301T143000Z
DTEND:20220301T153000Z
X-MICROSOFT-CDO-ALLDAYEVENT:FALSE
SUMMARY:March Entrepreneurial Council Meeting
DESCRIPTION:March Entrepreneurial Council Meeting\n\nSpeaker: Greg Knighton\, City of Hoover\n\n\n\nPlease join us on Tuesday\, March 1\, 2022\, at 8:30 am. Our guest speaker will be Greg Knighton\, Economic Development Manager for the City of Hoover. Greg will discuss what his department is working on and new business ventures in the City. So if you want to know "What's Happening " in Hoover\, you will want to be present!
X-ALT-DESC;FMTTYPE=text/html:March Entrepreneurial Council Meeting<br />\nSpeaker: Greg Knighton\, City of Hoover<br />\n<br />\n<span style="font-size:16px\;"><span style="font-family:times new roman\;"><span style="color: rgb(68\, 68\, 68)\; white-space: pre-wrap\;">Please join us on Tuesday\, March 1\, 2022\, at 8:30 am.&nbsp\;Our guest speaker will be Greg Knighton\, Economic Development Manager for the City of Hoover. Greg will discuss what his department is working on and new business ventures in the City. So if you want to know &quot\;What&#39\;s Happening &quot\; in Hoover\, you will want to be present!</span></span></span><br />\n&nbsp\;
LOCATION:Hoover Chamber Office 3000 Riverchase Galleria Suite 375 Hoover\, AL 35244
UID:e.3294.1581
SEQUENCE:3
DTSTAMP:20260426T042232Z
URL:https://business.hooverchamber.org/events/details/march-entrepreneurial-council-meeting-1581
END:VEVENT

END:VCALENDAR
