BEGIN:VCALENDAR
VERSION:2.0
PRODID:-//ChamberMaster//Event Calendar 2.0//EN
METHOD:PUBLISH
X-PUBLISHED-TTL:P3D
REFRESH-INTERVAL:P3D
CALSCALE:GREGORIAN
BEGIN:VEVENT
DTSTART:20220310T133000Z
DTEND:20220310T150000Z
X-MICROSOFT-CDO-ALLDAYEVENT:FALSE
SUMMARY:March Coffee & Contacts
DESCRIPTION:March Coffee & Contacts at All Star Realty
X-ALT-DESC;FMTTYPE=text/html:March Coffee &amp\; Contacts at All Star Realty
LOCATION:2030-A Columbiana Road Vestavia Hills\, AL 35216
UID:e.3294.1545
SEQUENCE:3
DTSTAMP:20260426T041352Z
URL:https://business.hooverchamber.org/events/details/march-coffee-contacts-1545
END:VEVENT

END:VCALENDAR
