BEGIN:VCALENDAR
VERSION:2.0
PRODID:-//ChamberMaster//Event Calendar 2.0//EN
METHOD:PUBLISH
X-PUBLISHED-TTL:P3D
REFRESH-INTERVAL:P3D
CALSCALE:GREGORIAN
BEGIN:VEVENT
DTSTART:20240207T213000Z
DTEND:20240207T230000Z
X-MICROSOFT-CDO-ALLDAYEVENT:FALSE
SUMMARY:Low latency Communications Networking Event
DESCRIPTION:Low Latency Communications cordially invites you to an exclusive networking event designed for professionals eager to connect\, share insights\, and explore opportunities in a relaxed yet professional setting.\n\n\n\nJoin us at the private room of On Tap Sports Cafe for an afternoon of engaging conversations and the chance to build meaningful connections with like-minded business individuals. This event serves as an ideal platform for professionals across various industries to meet\, exchange ideas\, and foster new collaborations.\n\n\n\nExclusive Networking: Connect with industry leaders\, innovators\, and professionals in a private setting.\n\nProfessional Growth: Discover new opportunities\, share insights\, and gain fresh perspectives on trends shaping our industries.\n\nDrinks Available for Purchase: Enjoy a selection of beverages available for purchase\, facilitating casual conversations in a comfortable atmosphere.\n\n\n\nYour presence would greatly enrich our gathering. This is an invaluable opportunity to expand your professional network within our vibrant business community!\n\n\n\nFor inquiries\, contact:\n\n\n\n\n\n\n\nWe look forward to welcoming you and fostering new connections that drive professional growth and collaboration.
X-ALT-DESC;FMTTYPE=text/html:<br />\n<br />\n&nbsp\;\n<blockquote style="color: rgb(36\, 36\, 36)\; font-family: &quot\;Segoe UI&quot\;\, &quot\;Segoe UI Web (West European)&quot\;\, &quot\;Segoe UI&quot\;\, -apple-system\, BlinkMacSystemFont\, Roboto\, &quot\;Helvetica Neue&quot\;\, sans-serif\; font-size: 15px\; font-style: normal\;" type="cite">\n<div dir="ltr" style="border: 0px\; font: inherit\; margin: 0px\; padding: 0px\; vertical-align: baseline\; color: inherit\;">\n<div class="x_BodyFragment" style="border: 0px\; font: inherit\; margin: 0px\; padding: 0px\; vertical-align: baseline\; color: inherit\;">\n<div class="x_PlainText" style="border: 0px\; font: inherit\; margin: 0px\; padding: 0px\; vertical-align: baseline\; color: inherit\;"><font size="2"><span style="border: 0px\; font-style: inherit\; font-variant: inherit\; font-weight: inherit\; font-stretch: inherit\; font-size: 11pt\; line-height: inherit\; font-family: inherit\; font-optical-sizing: inherit\; font-kerning: inherit\; font-feature-settings: inherit\; font-variation-settings: inherit\; margin: 0px\; padding: 0px\; vertical-align: baseline\; color: inherit\;">Low Latency Communications cordially invites you to an exclusive networking event designed for professionals eager to connect\, share insights\, and explore opportunities in a relaxed yet professional setting.<br aria-hidden="true" />\n<br aria-hidden="true" />\nJoin us at the private room of On Tap Sports Cafe for an afternoon of engaging conversations and the chance to build meaningful connections with like-minded business individuals. This event serves as an ideal platform for professionals across various industries to meet\, exchange ideas\, and foster new collaborations.<br aria-hidden="true" />\n<br aria-hidden="true" />\nExclusive Networking: Connect with industry leaders\, innovators\, and professionals in a private setting.<br aria-hidden="true" />\nProfessional Growth: Discover new opportunities\, share insights\, and gain fresh perspectives on trends shaping our industries.<br aria-hidden="true" />\nDrinks Available for Purchase: Enjoy a selection of beverages available for purchase\, facilitating casual conversations in a comfortable atmosphere.<br aria-hidden="true" />\n<br aria-hidden="true" />\nYour presence would greatly enrich our gathering. This is an invaluable opportunity to expand your professional network within our vibrant business community!<br aria-hidden="true" />\n<br aria-hidden="true" />\nFor inquiries\, contact:<br aria-hidden="true" />\n<br aria-hidden="true" />\n<br aria-hidden="true" />\n<br aria-hidden="true" />\nWe look forward to welcoming you and fostering new connections that drive professional growth and collaboration.</span></font><br aria-hidden="true" />\n<br aria-hidden="true" />\n&nbsp\;</div>\n</div>\n</div>\n</blockquote>\n
LOCATION:
UID:e.3294.4222
SEQUENCE:3
DTSTAMP:20260421T064328Z
URL:https://business.hooverchamber.org/events/details/low-latency-communications-networking-event-4222
END:VEVENT

END:VCALENDAR
