BEGIN:VCALENDAR
VERSION:2.0
PRODID:-//ChamberMaster//Event Calendar 2.0//EN
METHOD:PUBLISH
X-PUBLISHED-TTL:P3D
REFRESH-INTERVAL:P3D
CALSCALE:GREGORIAN
BEGIN:VEVENT
DTSTART:20220306T000000Z
DTEND:20220306T050000Z
X-MICROSOFT-CDO-ALLDAYEVENT:FALSE
SUMMARY:Laura Crandall Brown Foundation Taste of Teal Gala
DESCRIPTION:Laura Crandall Brown Foundation\n\nTaste of Teal Gala
X-ALT-DESC;FMTTYPE=text/html:Laura Crandall Brown Foundation<br />\nTaste of Teal Gala
LOCATION:Hyatt Regency Birmingham The Wynfrey Hotel 1000 Riverchase Galleria Hoover\, AL 35244
UID:e.3294.1605
SEQUENCE:3
DTSTAMP:20260426T042813Z
URL:https://business.hooverchamber.org/events/details/laura-crandall-brown-foundation-taste-of-teal-gala-1605
END:VEVENT

END:VCALENDAR
