BEGIN:VCALENDAR
VERSION:2.0
PRODID:-//ChamberMaster//Event Calendar 2.0//EN
METHOD:PUBLISH
X-PUBLISHED-TTL:P3D
REFRESH-INTERVAL:P3D
CALSCALE:GREGORIAN
BEGIN:VEVENT
DTSTART:20220421T200000Z
DTEND:20220422T000000Z
X-MICROSOFT-CDO-ALLDAYEVENT:FALSE
SUMMARY:LADIES ONLY! Come join us at the PGA Tour Superstore on THURSDAY\, April 21 for a LADIES SPECIAL!
DESCRIPTION:Daniel Holcomb the XXIO Rep Will be bringing out the New Line of XXIO 12.\n\nRefreshments will be provided by the PGA Tour Superstore\, bring a friend\, and come hit the newest Ladies Clubs.\n\n \n\nWe will have several Bays exclusive for this event. If you have a large group planning to attend let us know so we can prepare. If you have any questions feel free to contact Tony Marino (205)296-2271 or Emma Zaiontz (205)516-1990.
X-ALT-DESC;FMTTYPE=text/html:<p class="xmsoplaintext">Daniel Holcomb the XXIO Rep Will be bringing out the New Line of XXIO 12.<o:p></o:p></p>\n\n<p class="xmsoplaintext">Refreshments will be provided by the PGA Tour Superstore\, bring a friend\, and come hit the newest Ladies Clubs.<o:p></o:p></p>\n\n<p class="xmsoplaintext">&nbsp\;<o:p></o:p></p>\n\n<p class="xmsoplaintext">We will have several Bays exclusive for this event. If you have a large group planning to attend let us know so we can prepare. If you have any questions feel free to contact Tony Marino (205)296-2271 or Emma Zaiontz (205)516-1990.&nbsp\;<o:p></o:p></p>\n
LOCATION:PGA Tour Superstore 165-A Inverness Plaza Birmingham\, AL 35242 (corner of Hwy 280 and Valleydale Road)
UID:e.3294.1631
SEQUENCE:3
DTSTAMP:20260426T025204Z
URL:https://business.hooverchamber.org/events/details/ladies-only-come-join-us-at-the-pga-tour-superstore-on-thursday-april-21-for-a-ladies-special-1631
END:VEVENT

END:VCALENDAR
