BEGIN:VCALENDAR
VERSION:2.0
PRODID:-//ChamberMaster//Event Calendar 2.0//EN
METHOD:PUBLISH
X-PUBLISHED-TTL:P3D
REFRESH-INTERVAL:P3D
CALSCALE:GREGORIAN
BEGIN:VEVENT
DTSTART:20220826T153000Z
DTEND:20220826T163000Z
X-MICROSOFT-CDO-ALLDAYEVENT:FALSE
SUMMARY:Joint Ribbon Cutting with Shelby County Chamber for Aligned Tek
DESCRIPTION:Joint Ribbon Cutting Ceremony with Shelby County Chamber at Aligned Tek\n\n\n\nAligned Tek was born with a passion and a purpose. Our seamless approach to IT Service & Support\, VoIP Solutions\, Web Design and Digital Marketing intertwines our experts with your healthcare practice to craft and implement a personalized strategy that powers results   results that connect your practice to new patients and simplify technology solutions within your practice.
X-ALT-DESC;FMTTYPE=text/html:<span style="font-size:16px\;">Joint Ribbon Cutting Ceremony with Shelby County Chamber at Aligned Tek<br />\n<br />\n<strong><span style="background-image:initial\;background-position:initial\;background-size:initial\;background-repeat:initial\;background-attachment:initial\;background-origin:initial\;background-clip:initial\;"><span style="color:black\;"><span style="font-family:verdana\,sans-serif\;">Aligned Tek</span></span></span></strong><span style="background-image:initial\;background-position:initial\;background-size:initial\;background-repeat:initial\;background-attachment:initial\;background-origin:initial\;background-clip:initial\;"><span style="color:black\;"><span style="font-family:verdana\,sans-serif\;">&nbsp\;was born with a passion and a purpose. Our seamless approach to&nbsp\;</span></span></span><span style="font-family:verdana\,sans-serif\;"><a href="https://alignedtek.com/solutions/it-service-support/" style="box-sizing:border-box\;color:var( --e-global-color-442195d )\;box-shadow:none\;"><span style="background-image:initial\;background-position:initial\;background-size:initial\;background-repeat:initial\;background-attachment:initial\;background-origin:initial\;background-clip:initial\;text-decoration-line:none\;"><span style="color:black\;">IT Service &amp\; Support</span></span></a></span><span style="background-image:initial\;background-position:initial\;background-size:initial\;background-repeat:initial\;background-attachment:initial\;background-origin:initial\;background-clip:initial\;"><span style="color:black\;"><span style="font-family:verdana\,sans-serif\;">\, VoIP Solutions\,&nbsp\;</span></span></span><span style="font-family:verdana\,sans-serif\;"><a href="https://alignedtek.com/solutions/web-design-development/" style="box-sizing:border-box\;color:var( --e-global-color-442195d )\;box-shadow:none\;"><span style="background-image:initial\;background-position:initial\;background-size:initial\;background-repeat:initial\;background-attachment:initial\;background-origin:initial\;background-clip:initial\;text-decoration-line:none\;"><span style="color:black\;">Web Design</span></span></a></span><span style="background-image:initial\;background-position:initial\;background-size:initial\;background-repeat:initial\;background-attachment:initial\;background-origin:initial\;background-clip:initial\;"><span style="color:black\;"><span style="font-family:verdana\,sans-serif\;">&nbsp\;and Digital Marketing intertwines our experts with your healthcare practice to craft and implement a personalized strategy that powers results &ndash\;&nbsp\;<strong style="box-sizing:border-box\;">results that connect your practice to new patients and simplify technology solutions within your practice.</strong></span></span></span></span>
LOCATION:2000 Resource Drive Birmingham\, AL 35242
UID:e.3294.1667
SEQUENCE:3
DTSTAMP:20260425T204453Z
URL:https://business.hooverchamber.org/events/details/joint-ribbon-cutting-with-shelby-county-chamber-for-aligned-tek-1667
END:VEVENT

END:VCALENDAR
