BEGIN:VCALENDAR
VERSION:2.0
PRODID:-//ChamberMaster//Event Calendar 2.0//EN
METHOD:PUBLISH
X-PUBLISHED-TTL:P3D
REFRESH-INTERVAL:P3D
CALSCALE:GREGORIAN
BEGIN:VEVENT
DTSTART:20221101T133000Z
DTEND:20221101T143000Z
X-MICROSOFT-CDO-ALLDAYEVENT:FALSE
SUMMARY:Hoover Area Chamber of Commerce November Entrepreneurial Council Meeting
DESCRIPTION:What's new in Economic Development in the City of Hoover?\n\nSince the pandemic several businesses have closed and several new businesses have opened. Commercial construction has started up again and so has business growth. Greg Knighton and Taylor Durham will be our speakers and they will discuss what is happening in Hoover in the economic development arena.  Please join us and learn what is happening and what is planned for 2023.
X-ALT-DESC;FMTTYPE=text/html:<span style="font-size:20px\;"><span style="font-family:verdana\;">What&#39\;s new in Economic Development in the City of Hoover?<br />\nSince the pandemic several businesses have closed and several new businesses have opened. Commercial&nbsp\;construction has started up again and so has business growth. Greg Knighton and Taylor Durham will be our speakers and they will discuss what is happening in Hoover in the economic development arena.&nbsp\; Please join us and learn what is happening and what is planned for 2023.</span></span>
LOCATION:Hoover Chamber Office 3000 Riverchase Galleria Suite 375 Hoover\, AL 35244
UID:e.3294.1589
SEQUENCE:3
DTSTAMP:20260425T174023Z
URL:https://business.hooverchamber.org/events/details/hoover-area-chamber-of-commerce-november-entrepreneurial-council-meeting-1589
END:VEVENT

END:VCALENDAR
