BEGIN:VCALENDAR
VERSION:2.0
PRODID:-//ChamberMaster//Event Calendar 2.0//EN
METHOD:PUBLISH
X-PUBLISHED-TTL:P3D
REFRESH-INTERVAL:P3D
CALSCALE:GREGORIAN
BEGIN:VEVENT
DTSTART:20230216T171500Z
DTEND:20230216T190000Z
X-MICROSOFT-CDO-ALLDAYEVENT:FALSE
SUMMARY:Hoover Area Chamber of Commerce Membership Luncheon in partnership with The Community Foundation featuring the "Woven Together" Series
DESCRIPTION:Woven Together Learning Series\n\n			In partnership with the Community Foundation\n\n			\n\n			Building a Pipeline of Economic Opportunity for Equitable and Inclusive Growth in our Region\n\n			We hope you will plan to join us for lunch on Thursday\, February 16 for our first Woven Together Learning Event of 2023. This event will bring together community and business leaders to discuss strategies for creating a more equitable and inclusive economy for all. We will hear from panelists about their experiences and success stories in promoting economic opportunity in their own communities\, and discuss practical solutions for building a more inclusive and prosperous future for our region.\n\n			\n\n			Woven Together Learning Series: Building a Pipeline of Economic Opportunity for Equitable and Inclusive Growth in our Region\n\n			11:30am - 1:00pm*\, Hoover Country Club\n\n			3140 Club Drive\, Birmingham\, AL 35226\n\n			\n\n			*Networking begins at 11:00am and the program begins at 11:30am.\n			\n				\n					\n						\n						\n							\n								\n									\n									\n										\n											\n												Panel 1: Economic Opportunities for Underserved Businesses\n\n												Frank Brocato\, Mayor of Hoover\n\n												JW Carpenter\, Executive Director\, Prosper\n\n												Carlos Aleman\, Executive Director\, HICA\n\n												Rashada LeRoy\, LRY Media Group\n\n												Moderator: Chris Nanni\, President & CEO\, Community Foundation\n											\n										\n									\n									\n								\n							\n						\n						\n					\n				\n			\n			 \n\n			\n				\n					\n						\n						\n							\n								\n									\n									\n										\n											\n												Panel 2: Equitable Growth in Hoover\n\n												Vivian Mora\, State Farm\n\n												Greg Knighton\, Economic Development Manager\, City of Hoover\n\n												Rohen Porbanderwala\, Lakecrest Chevron\n\n												Marcellous Johnson\, Sabre Finance\n\n												Moderator: Kathy Boswell\, BIntentional
X-ALT-DESC;FMTTYPE=text/html:<table align="left" border="0" cellpadding="0" cellspacing="0" style="width:100.0%\;border-collapse:collapse\;" width="100%">\n	<tbody>\n		<tr>\n			<td style="padding:0in 13.5pt 6.75pt 13.5pt\;vertical-align:top\;"><strong><span style="color:#00BAFF\;"><span style="font-family:helvetica\,sans-serif\;"><span style="font-size:13.5pt\;">Woven Together Learning Series</span></span></span></strong><br />\n			<strong><span style="color:#00BAFF\;"><span style="font-family:helvetica\,sans-serif\;"><span style="font-size:13.5pt\;"><strong>In partnership with the Community Foundation</strong></span></span></span></strong><br />\n			<br />\n			<span style="color:#6D6E70\;"><span style="font-family:helvetica\,sans-serif\;"><span style="font-size:12.0pt\;"><strong><em>Building a Pipeline of Economic Opportunity for Equitable and Inclusive Growth in our Region</em></strong><br />\n			We hope you will plan to join us for lunch on&nbsp\;<strong>Thursday\, February 16</strong>&nbsp\;for our first Woven Together Learning Event of 2023.&nbsp\;This event will bring together community and business leaders to discuss strategies for creating a more equitable and inclusive economy for all. We will hear from panelists about their experiences and success stories in promoting economic opportunity in their own communities\, and discuss practical solutions for building a more inclusive and prosperous future for our region.<br />\n			<br />\n			<em>Woven Together Learning Series: Building a Pipeline of Economic Opportunity for Equitable and Inclusive Growth in our Region</em><br />\n			<em>11:30am - 1:00pm*\, Hoover Country Club</em><br />\n			<em><span style="font-style:normal\;">3140 Club Drive\, Birmingham\, AL 35226</span></em><br />\n			<br />\n			*Networking begins at 11:00am and the program begins at 11:30am.</span></span></span>\n			<table border="0" cellpadding="0" cellspacing="0" style="width:100.0%\;border-collapse:collapse\;" width="100%">\n				<tbody>\n					<tr>\n						<td style="padding:6.75pt 0in 0in 0in\;vertical-align:top\;">\n						<table align="left" border="0" cellpadding="0" cellspacing="0" style="width:100.0%\;border-collapse:collapse\;margin-left:-2.25pt\;margin-right:-2.25pt\;" width="100%">\n							<tbody>\n								<tr>\n									<td style="width:600px\;padding:0in 0in 0in 0in\;vertical-align:top\;">\n									<table align="left" border="0" cellpadding="0" cellspacing="0" style="width:100.0%\;border-collapse:collapse\;" width="100%">\n										<tbody>\n											<tr>\n												<td style="padding:0in 13.5pt 6.75pt 13.5pt\;vertical-align:top\;"><strong><span style="color:#00BAFF\;"><span style="font-family:helvetica\,sans-serif\;"><span style="font-size:12.0pt\;">Panel 1: Economic Opportunities for Underserved Businesses</span></span></span></strong><br />\n												<span style="color:#6D6E70\;"><span style="font-family:helvetica\,sans-serif\;"><span style="font-size:12.0pt\;">Frank Brocato\, Mayor of Hoover<br />\n												JW Carpenter\, Executive Director\, Prosper<br />\n												Carlos Aleman\, Executive Director\, HICA<br />\n												Rashada LeRoy\, LRY Media Group<br />\n												Moderator: Chris Nanni\, President &amp\; CEO\, Community Foundation</span></span></span></td>\n											</tr>\n										</tbody>\n									</table>\n									</td>\n								</tr>\n							</tbody>\n						</table>\n						</td>\n					</tr>\n				</tbody>\n			</table>\n			&nbsp\;\n\n			<table border="0" cellpadding="0" cellspacing="0" style="width:100.0%\;border-collapse:collapse\;min-width:100%\;-ms-text-size-adjust:100%\;-webkit-text-size-adjust:100%\;" width="100%">\n				<tbody>\n					<tr>\n						<td style="padding:6.75pt 0in 0in 0in\;-ms-text-size-adjust:100%\;-webkit-text-size-adjust:100%\;vertical-align:top\;">\n						<table align="left" border="0" cellpadding="0" cellspacing="0" style="width:100.0%\;border-collapse:collapse\;margin-left:-2.25pt\;margin-right:-2.25pt\;-ms-text-size-adjust:100%\;-webkit-text-size-adjust:100%\;" width="100%">\n							<tbody>\n								<tr>\n									<td style="width:600px\;padding:0in 0in 0in 0in\;-ms-text-size-adjust:100%\;-webkit-text-size-adjust:100%\;vertical-align:top\;">\n									<table align="left" border="0" cellpadding="0" cellspacing="0" style="width:100.0%\;border-collapse:collapse\;max-width:100%\;min-width:100%\;-ms-text-size-adjust:100%\;-webkit-text-size-adjust:100%\;" width="100%">\n										<tbody>\n											<tr>\n												<td style="padding:0in 13.5pt 6.75pt 13.5pt\;-ms-text-size-adjust:100%\;-webkit-text-size-adjust:100%\;word-break:break-word\;vertical-align:top\;"><strong><span style="color:#00BAFF\;"><span style="font-family:helvetica\,sans-serif\;"><span style="font-size:12.0pt\;">Panel 2: Equitable&nbsp\;Growth in Hoover</span></span></span></strong><br />\n												<span style="color:#6D6E70\;"><span style="font-family:helvetica\,sans-serif\;"><span style="font-size:12.0pt\;">Vivian Mora\, State Farm<br />\n												Greg Knighton\, Economic Development Manager\, City of Hoover<br />\n												Rohen Porbanderwala\, Lakecrest Chevron<br />\n												Marcellous Johnson\, Sabre Finance<br />\n												Moderator: Kathy Boswell\, BIntentional</span></span></span></td>\n											</tr>\n										</tbody>\n									</table>\n									</td>\n								</tr>\n							</tbody>\n						</table>\n						</td>\n					</tr>\n				</tbody>\n			</table>\n			<br />\n			<br />\n			&nbsp\;</td>\n		</tr>\n	</tbody>\n</table>\n\n<p class="xmsonormal">&nbsp\;</p>\n
LOCATION:Hoover Country Club
UID:e.3294.1736
SEQUENCE:3
DTSTAMP:20260425T204930Z
URL:https://business.hooverchamber.org/events/details/hoover-area-chamber-of-commerce-membership-luncheon-in-partnership-with-the-community-foundation-featuring-the-woven-together-series-1736
END:VEVENT

END:VCALENDAR
