BEGIN:VCALENDAR
VERSION:2.0
PRODID:-//ChamberMaster//Event Calendar 2.0//EN
METHOD:PUBLISH
X-PUBLISHED-TTL:P3D
REFRESH-INTERVAL:P3D
CALSCALE:GREGORIAN
BEGIN:VEVENT
DTSTART:20220317T161500Z
DTEND:20220317T180000Z
X-MICROSOFT-CDO-ALLDAYEVENT:FALSE
SUMMARY:Hoover Area Chamber of Commerce March Luncheon
DESCRIPTION:March Chamber Luncheon\n\nGuest Speaker: Special Agent In Charge Director Ben Bass and Deputy Director Beau Brown of the National Computer Forensics Institute
X-ALT-DESC;FMTTYPE=text/html:March Chamber Luncheon<br />\nGuest Speaker: Special Agent In Charge Director Ben Bass and Deputy Director Beau Brown of the National Computer Forensics Institute<br />\n&nbsp\;
LOCATION:The Hoover Met Stadium Banquet Room 5508 Stadium Trace Parkway Hoover\, AL 35244
UID:e.3294.1546
SEQUENCE:3
DTSTAMP:20260426T042915Z
URL:https://business.hooverchamber.org/events/details/hoover-area-chamber-of-commerce-march-luncheon-1546
END:VEVENT

END:VCALENDAR
