BEGIN:VCALENDAR
VERSION:2.0
PRODID:-//ChamberMaster//Event Calendar 2.0//EN
METHOD:PUBLISH
X-PUBLISHED-TTL:P3D
REFRESH-INTERVAL:P3D
CALSCALE:GREGORIAN
BEGIN:VEVENT
DTSTART:20220714T123000Z
DTEND:20220714T140000Z
X-MICROSOFT-CDO-ALLDAYEVENT:FALSE
SUMMARY:Hoover Area Chamber of Commerce July Coffee & Contacts
DESCRIPTION:Coffee & Contacts at Alabama Credit Union\n\n \nAlabama Credit Union's mission is to enhance the lives of our members and team members\, strengthen our communities and live our shared values.\n\nAt Alabama's Best Credit Union we want you to "feel good about your money." Our members can feel good about their money because our employees will provide products and financial counsel that our members need\, and do it with a smile. We think of our members as part of the ACU family and are dedicated to taking care of them from assisting with an auto loan\, at a great rate\, to helping save for that dream vacation.
X-ALT-DESC;FMTTYPE=text/html:<span style="font-size:18px\;"><span style="font-family:times new roman\;">Coffee &amp\; Contacts at Alabama Credit Union</span></span><br />\n&nbsp\;\n<p style="box-sizing: border-box\; margin: 0px 0px 20px\; color: rgb(80\, 80\, 80)\; font-family: intro-book\, myriad-pro\, sans-serif\; font-size: 18px\;"><span style="font-size:18px\;"><span style="font-family:times new roman\;">Alabama Credit Union&rsquo\;s mission is to enhance the lives of our members and team members\, strengthen our communities and live our shared values.</span></span></p>\n\n<p style="box-sizing: border-box\; margin: 0px 0px 20px\; color: rgb(80\, 80\, 80)\; font-family: intro-book\, myriad-pro\, sans-serif\; font-size: 18px\;"><span style="font-size:18px\;"><span style="font-family:times new roman\;">At Alabama&#39\;s Best Credit Union&nbsp\;we want you to&nbsp\;<span style="box-sizing: border-box\; font-weight: 900\; color: rgb(0\, 0\, 0)\;">&ldquo\;<em style="box-sizing: border-box\;">feel good about your money</em>.&rdquo\;&nbsp\;</span>Our members can feel good about their money because our employees will provide products and financial counsel that our members need\, and do it with a smile. We think of our members as part of the ACU family and are dedicated to taking care of them&mdash\;from assisting with an auto loan\, at a great rate\, to helping save for that dream vacation.</span></span></p>\n
LOCATION:1604 Montgomery Highway Hoover\, AL 35216
UID:e.3294.1597
SEQUENCE:3
DTSTAMP:20260425T224140Z
URL:https://business.hooverchamber.org/events/details/hoover-area-chamber-of-commerce-july-coffee-contacts-1597
END:VEVENT

END:VCALENDAR
