BEGIN:VCALENDAR
VERSION:2.0
PRODID:-//ChamberMaster//Event Calendar 2.0//EN
METHOD:PUBLISH
X-PUBLISHED-TTL:P3D
REFRESH-INTERVAL:P3D
CALSCALE:GREGORIAN
BEGIN:VEVENT
DTSTART:20220728T213000Z
DTEND:20220728T230000Z
X-MICROSOFT-CDO-ALLDAYEVENT:FALSE
SUMMARY:Hoover Area Chamber of Commerce July Business After Hours
DESCRIPTION:July Business After Hours at Homewood Suites-Bham SW-Riverchase-Galleria\n\n\nWhen you stay at Homewood Suites by Hilton Birmingham-SW-Riverchase-Galleria in Birmingham\, you'll be in the business district\, within a 15-minute drive of Riverchase Galleria and The Summit. This hotel is 2.8 mi (4.6 km) from Oak Mountain Amphitheatre and 10.1 mi (16.3 km) from Oak Mountain State Park. Make yourself at home in one of the 113 guestrooms\, featuring kitchens with full-sized refrigerators/freezers and stovetops. Your bed comes with down comforters\, and all rooms are furnished with queen sofa beds. Wired and wireless Internet access is complimentary\, while 32-inch LCD televisions with cable programming provide entertainment. Conveniences include complimentary weekday newspapers and microwaves\, as well as phones with free local calls. Don't miss out on recreational opportunities including a 24-hour fitness center and a seasonal outdoor pool. This hotel also features complimentary wireless Internet access\, a fireplace in the lobby\, and barbecue grills. Grab a bite from the grocery/convenience store serving guests of Homewood Suites by Hilton Birmingham-SW-Riverchase-Galleria. A complimentary full breakfast is served daily from 6:00 AM to 9:00 AM. Featured amenities include complimentary wired Internet access\, a 24-hour business center\, and express check-in. Planning an event in Birmingham? This hotel has facilities measuring 676 square feet (63 square meters)\, including a meeting room. Free self parking is available onsite.
X-ALT-DESC;FMTTYPE=text/html:<span style="font-size:20px\;"><span style="font-family:times new roman\;">July Business After Hours at Homewood Suites-Bham SW-Riverchase-Galleria</span></span>\n<p style="box-sizing: border-box\; margin: 0px 0px 20px\; color: rgb(80\, 80\, 80)\; font-family: intro-book\, myriad-pro\, sans-serif\; font-size: 18px\;"><br />\n<span style="font-size:18px\;"><span style="font-family:times new roman\;"><span style="color: rgb(32\, 32\, 39)\;">When you stay at Homewood Suites by Hilton Birmingham-SW-Riverchase-Galleria in Birmingham\, you&#39\;ll be in the business district\, within a 15-minute drive of Riverchase Galleria and The Summit. This hotel is 2.8 mi (4.6 km) from Oak Mountain Amphitheatre and 10.1 mi (16.3 km) from Oak Mountain State Park. Make yourself at home in one of the 113 guestrooms\, featuring kitchens with full-sized refrigerators/freezers and stovetops. Your bed comes with down comforters\, and all rooms are furnished with queen sofa beds. Wired and wireless Internet access is complimentary\, while 32-inch LCD televisions with cable programming provide entertainment. Conveniences include complimentary weekday newspapers and microwaves\, as well as phones with free local calls. Don&#39\;t miss out on recreational opportunities including a 24-hour fitness center and a seasonal outdoor pool. This hotel also features complimentary wireless Internet access\, a fireplace in the lobby\, and barbecue grills. Grab a bite from the grocery/convenience store serving guests of Homewood Suites by Hilton Birmingham-SW-Riverchase-Galleria. A complimentary full breakfast is served daily from 6:00 AM to 9:00 AM. Featured amenities include complimentary wired Internet access\, a 24-hour business center\, and express check-in. Planning an event in Birmingham? This hotel has facilities measuring 676 square feet (63 square meters)\, including a meeting room. Free self parking is available onsite.</span></span></span></p>\n
LOCATION:121 Riverchase Parkway East Hoover\, AL 35244
UID:e.3294.1599
SEQUENCE:3
DTSTAMP:20260425T224335Z
URL:https://business.hooverchamber.org/events/details/hoover-area-chamber-of-commerce-july-business-after-hours-1599
END:VEVENT

END:VCALENDAR
