BEGIN:VCALENDAR
VERSION:2.0
PRODID:-//ChamberMaster//Event Calendar 2.0//EN
METHOD:PUBLISH
X-PUBLISHED-TTL:P3D
REFRESH-INTERVAL:P3D
CALSCALE:GREGORIAN
BEGIN:VEVENT
DTSTART:20220818T161500Z
DTEND:20220818T180000Z
X-MICROSOFT-CDO-ALLDAYEVENT:FALSE
SUMMARY:Hoover Area Chamber of Commerce August Luncheon
DESCRIPTION:Hoover Area Chamber of Commerce August Luncheon\n\n\n\nSpeaker: Noah Galloway\n\nSponsor: American Airlines\n\n\n\nNoah Galloway is a former United States Army soldier\, motivational speaker\, and extreme sports enthusiast. He was injured during the Iraq War\, losing his left arm above the elbow and left leg above the knee. He was a contestant on Dancing With the Stars Season 20\, paired with Sharna Burgess. The pair finished in third place. He led his team to victory in the first season of the American Grit TV show on FOX. His book Living with No Excuses: The Remarkable Rebirth of an American Soldier was released in August 2016. Made an appearance on the Cross Over with Ted Davis\, Dario Melendez and Armen Saryan on May 8\, 2020. An Emmy award sports talk radio show based in Milwaukee\, WI. Enjoys playing golf and throwing darts at his favorite brewery\, Interstellar Ginger Beer & Exploration Co in Alabaster\, AL
X-ALT-DESC;FMTTYPE=text/html:<span style="font-size:20px\;"><span style="font-family:times new roman\;">Hoover Area Chamber of Commerce August Luncheon<br />\n<br />\n<strong>Speaker: Noah Galloway<br />\nSponsor: American Airlines</strong><br />\n<br />\n<span style="color:#000000\;"><b style="color: rgb(32\, 33\, 34)\; font-family: sans-serif\; font-size: 14px\;">Noah Galloway&nbsp\;</b>is a former United States Army</span><span style="color:#000000\;">&nbsp\;soldier\, motivational speaker\, and extreme sports enthusiast. He was injured during the Iraq War</span><span style="color:#000000\;">\, losing his left arm above the elbow and left leg above the knee.&nbsp\;He was a contestant on Dancing With the Stars Season 20</span><span style="color:#000000\;">\, paired with Sharna Burgess</span><span style="color:#000000\;">. The pair finished in third place. He led his team to victory in the first season of the American Grit</span><span style="color:#000000\;">&nbsp\;TV show on FOX. His book Living with No Excuses: The Remarkable Rebirth of an American Soldier&nbsp\;was released in August 2016. Made an appearance on the Cross Over with Ted Davis\, Dario Melendez and Armen Saryan on May 8\, 2020. An Emmy award sports talk radio show based in Milwaukee\, WI. Enjoys playing golf and throwing darts at his favorite brewery\, Interstellar Ginger Beer &amp\; Exploration Co in Alabaster\, AL</span></span></span>
LOCATION:Hoover Country Club 3140 Club Drive Hoover\, AL 35226
UID:e.3294.1607
SEQUENCE:3
DTSTAMP:20260425T204702Z
URL:https://business.hooverchamber.org/events/details/hoover-area-chamber-of-commerce-august-luncheon-1607
END:VEVENT

END:VCALENDAR
