BEGIN:VCALENDAR
VERSION:2.0
PRODID:-//ChamberMaster//Event Calendar 2.0//EN
METHOD:PUBLISH
X-PUBLISHED-TTL:P3D
REFRESH-INTERVAL:P3D
CALSCALE:GREGORIAN
BEGIN:VEVENT
DTSTART:20220802T133000Z
DTEND:20220802T143000Z
X-MICROSOFT-CDO-ALLDAYEVENT:FALSE
SUMMARY:Hoover Area Chamber of Commerce August Entrepreneurial Council Meeting
DESCRIPTION:August Entrepreneurial Council Meeting\n\n\n\nOur speaker is Demetria Scott with UAB Supplier Diversity.  She is going to discuss how partnerships and joint ventures work to help companies come together to do business with UAB.  Demetria is manager for the University of Alabama at Birmingham's Department of Small Business Inclusion and has received the President's Lifetime Achievement Award.  \n\nPlease join us for this very informative meeting!
X-ALT-DESC;FMTTYPE=text/html:August Entrepreneurial Council Meeting<br />\n<br />\nOur speaker is Demetria Scott with UAB Supplier Diversity.&nbsp\; She is going to discuss how partnerships and joint ventures work to help companies come together to do business with UAB.&nbsp\; Demetria is manager for the University of Alabama at Birmingham&#39\;s Department of Small Business Inclusion and has received the President&#39\;s Lifetime Achievement Award. &nbsp\;<br />\nPlease join us for this very informative meeting!
LOCATION:Hoover Chamber Office 3000 Riverchase Galleria Suite 375 Hoover\, AL 35244
UID:e.3294.1586
SEQUENCE:3
DTSTAMP:20260425T223501Z
URL:https://business.hooverchamber.org/events/details/hoover-area-chamber-of-commerce-august-entrepreneurial-council-meeting-1586
END:VEVENT

END:VCALENDAR
