BEGIN:VCALENDAR
VERSION:2.0
PRODID:-//ChamberMaster//Event Calendar 2.0//EN
METHOD:PUBLISH
X-PUBLISHED-TTL:P3D
REFRESH-INTERVAL:P3D
CALSCALE:GREGORIAN
BEGIN:VEVENT
DTSTART:20220811T123000Z
DTEND:20220811T140000Z
X-MICROSOFT-CDO-ALLDAYEVENT:FALSE
SUMMARY:Hoover Area Chamber of Commerce August Coffee & Contacts
DESCRIPTION:August Coffee & Contacts at Costco Wholesale\n\n \nWhat Is Costco?\n Costco is a membership warehouse club\, dedicated to bringing our members the best possible prices on quality brand-name merchandise. With more than 800 locations worldwide\, Costco provides a wide selection of merchandise\, plus the convenience of specialty departments and exclusive member services\, all designed to make your shopping experience a pleasurable one.
X-ALT-DESC;FMTTYPE=text/html:<span style="font-size:20px\;"><span style="font-family:times new roman\;">August Coffee &amp\; Contacts at Costco Wholesale</span></span><br />\n&nbsp\;\n<h4 style="box-sizing: border-box\; font-family: Arial\, Helvetica\, &quot\;Helvetica Neue&quot\;\, Roboto\, georgia\, serif\; line-height: 1.1\; margin-top: 10px\; margin-bottom: 10px\; font-size: 24px\;"><span style="font-size:20px\;"><span style="font-family:times new roman\;">What Is Costco?</span></span></h4>\n<span style="font-size:20px\;"><span style="font-family:times new roman\;"> Costco is a membership warehouse club\, dedicated to bringing our members the best possible prices on quality brand-name merchandise. With more than 800 locations worldwide\, Costco provides a wide selection of merchandise\, plus the convenience of specialty departments and exclusive member services\, all designed to make your shopping e<span style="color: rgba(0\, 0\, 0\, 0.8)\;">xperience a pleasurable one.</span></span></span>
LOCATION:3650 Galleria Circle Hoover\, AL 35244
UID:e.3294.1606
SEQUENCE:3
DTSTAMP:20260425T204728Z
URL:https://business.hooverchamber.org/events/details/hoover-area-chamber-of-commerce-august-coffee-contacts-1606
END:VEVENT

END:VCALENDAR
