BEGIN:VCALENDAR
VERSION:2.0
PRODID:-//ChamberMaster//Event Calendar 2.0//EN
METHOD:PUBLISH
X-PUBLISHED-TTL:P3D
REFRESH-INTERVAL:P3D
CALSCALE:GREGORIAN
BEGIN:VEVENT
DTSTART:20220825T213000Z
DTEND:20220825T230000Z
X-MICROSOFT-CDO-ALLDAYEVENT:FALSE
SUMMARY:Hoover Area Chamber of Commerce August Business After Hours
DESCRIPTION:August Business After Hours at Cahaba Dermatology & Skin Health Center\, LLC\n\n\n\nIf you have questions about skin care\, anti-aging\, and body sculpting or looking for a local spa treatment\, you don't want to miss this Business After Hours! It is guaranteed to be filled with helpful information for everyone!
X-ALT-DESC;FMTTYPE=text/html:August Business After Hours at Cahaba Dermatology &amp\; Skin Health Center\, LLC<br />\n<br />\nIf you have questions about skin care\, anti-aging\, and body sculpting or looking for a local spa treatment\, you don&#39\;t want to miss this Business After Hours! It is guaranteed to be filled with helpful information for everyone!
LOCATION:2290 Valleydale Road Hoover\, AL 35244
UID:e.3294.1608
SEQUENCE:3
DTSTAMP:20260425T204748Z
URL:https://business.hooverchamber.org/events/details/hoover-area-chamber-of-commerce-august-business-after-hours-1608
END:VEVENT

END:VCALENDAR
