BEGIN:VCALENDAR
VERSION:2.0
PRODID:-//ChamberMaster//Event Calendar 2.0//EN
METHOD:PUBLISH
X-PUBLISHED-TTL:P3D
REFRESH-INTERVAL:P3D
CALSCALE:GREGORIAN
BEGIN:VEVENT
DTSTART:20220421T161500Z
DTEND:20220421T180000Z
X-MICROSOFT-CDO-ALLDAYEVENT:FALSE
SUMMARY:Hoover Area Chamber of Commerce April Luncheon
DESCRIPTION:April Chamber Luncheon Featuring:\n\nAuthor\, Artist\, and Entrepreneur Larry Thornton \nArtist. Entrepreneur. Author. Servant Leader. These are just a few words that describe Larry D. Thornton\, Sr. You could also call him a father\, grandfather\, game changer\, teacher and team player.  Even though there are many words to describe Larry's prowess leadership\, hearing his life story puts everything in perspective.\n\n \n\nEven though he is primarily known as a business man and continues to produce limited and open edition art\, in April 2019\, Larry established himself as an author with the release of his first book\, Why Not Win? A Reflection on his fifty-year journey from the segregated South to America's boardrooms   and what It teaches us all.
X-ALT-DESC;FMTTYPE=text/html:<span style="font-size:20px\;">April Chamber Luncheon Featuring:<br />\nAuthor\, Artist\, and Entrepreneur Larry Thornton&nbsp\;</span>\n<p style="background-image: initial\; background-position: 0px 0px\; background-size: initial\; background-repeat: initial\; background-attachment: initial\; background-origin: initial\; background-clip: initial\; border: 0px\; margin: 0px\; padding: 0px\; vertical-align: baseline\; outline: 0px\; color: rgb(86\, 86\, 86)\; font-family: Lato\, sans-serif\; font-size: 15px\; line-height: 28px\;"><span style="background: 0px 0px\; border: 0px\; margin: 0px\; padding: 0px\; vertical-align: baseline\; outline: 0px\;">Artist. Entrepreneur. Author. Servant Leader. These are just a few words that describe Larry D. Thornton\, Sr. You could also call him a father\, grandfather\, game changer\, teacher and team player.&nbsp\; Even though there are many words to describe Larry&rsquo\;s prowess leadership\, hearing his life story puts everything in perspective.</span></p>\n\n<p style="background-image: initial\; background-position: 0px 0px\; background-size: initial\; background-repeat: initial\; background-attachment: initial\; background-origin: initial\; background-clip: initial\; border: 0px\; margin: 0px\; padding: 0px\; vertical-align: baseline\; outline: 0px\; color: rgb(86\, 86\, 86)\; font-family: Lato\, sans-serif\; font-size: 15px\; line-height: 28px\;">&nbsp\;</p>\n\n<p style="background-image: initial\; background-position: 0px 0px\; background-size: initial\; background-repeat: initial\; background-attachment: initial\; background-origin: initial\; background-clip: initial\; border: 0px\; margin: 0px\; padding: 0px\; vertical-align: baseline\; outline: 0px\; color: rgb(86\, 86\, 86)\; font-family: Lato\, sans-serif\; font-size: 15px\; line-height: 28px\;"><span style="background: 0px 0px\; border: 0px\; margin: 0px\; padding: 0px\; vertical-align: baseline\; outline: 0px\;">Even though he is primarily known as a business man and continues to produce limited and open edition art\, in April 2019\, Larry established himself as an author with the release of his first book\,&nbsp\;</span><strong style="background: 0px 0px\; border: 0px\; margin: 0px\; padding: 0px\; vertical-align: baseline\; outline: 0px\;"><i style="background: 0px 0px\; border: 0px\; margin: 0px\; padding: 0px\; vertical-align: baseline\; outline: 0px\;">Why Not Win? A Reflection on his fifty-year journey from the segregated South to America&rsquo\;s boardrooms &ndash\; and what It teaches us all</i>.</strong></p>\n
LOCATION:Hoover Country Club 3140 Club Drive Hoover\, AL 35226
UID:e.3294.1549
SEQUENCE:3
DTSTAMP:20260426T024913Z
URL:https://business.hooverchamber.org/events/details/hoover-area-chamber-of-commerce-april-luncheon-1549
END:VEVENT

END:VCALENDAR
