BEGIN:VCALENDAR
VERSION:2.0
PRODID:-//ChamberMaster//Event Calendar 2.0//EN
METHOD:PUBLISH
X-PUBLISHED-TTL:P3D
REFRESH-INTERVAL:P3D
CALSCALE:GREGORIAN
BEGIN:VEVENT
DTSTART:20220405T133000Z
DTEND:20220405T143000Z
X-MICROSOFT-CDO-ALLDAYEVENT:FALSE
SUMMARY:Hoover Area Chamber of Commerce April Entrepreneurial Council Meeting
DESCRIPTION:Featuring: Megyn Rodriguez is a Master of Public Administration from the Evan's School of Public Policy and Governance in Seattle\, Washington. She joined the Alabama District Office as an Outreach and Marketing Specialist in April of 2021 and has enjoyed many responsibilities since\, such as managing the 2021 Birmingham Emerging Leaders program\, connecting with the local SCORE chapter\, creating several public events to promote the SBA brand\, and recently she has excepted the market duty of Public Information Officer this year. As a dedicated public service\, Megyn is excited to share SBA's resources and truly hopes to assist Alabamians start\, grow\, expand\, or recover their small business.
X-ALT-DESC;FMTTYPE=text/html:<span style="border: 1pt none windowtext\; padding: 0in\;"><font color="#000000">Featuring: Megyn Rodriguez is a Master of Public Administration from the Evan&rsquo\;s School of Public Policy and Governance in Seattle\, Washington. She joined the Alabama District Office as an Outreach and Marketing Specialist in April of 2021 and has enjoyed many responsibilities since\, such as managing the 2021 Birmingham Emerging Leaders program\, connecting with the local SCORE chapter\, creating several public events to promote the SBA brand\, and recently she has excepted the market duty of Public Information Officer this year. As a dedicated public service\, Megyn is excited to share SBA&rsquo\;s resources and truly hopes to assist Alabamians start\, grow\, expand\, or recover their small business.</font></span><br />\n&nbsp\;
LOCATION:Hoover Chamber Office 3000 Riverchase Galleria Suite 375 Hoover\, AL 35244
UID:e.3294.1582
SEQUENCE:3
DTSTAMP:20260426T025204Z
URL:https://business.hooverchamber.org/events/details/hoover-area-chamber-of-commerce-april-entrepreneurial-council-meeting-1582
END:VEVENT

END:VCALENDAR
