BEGIN:VCALENDAR
VERSION:2.0
PRODID:-//ChamberMaster//Event Calendar 2.0//EN
METHOD:PUBLISH
X-PUBLISHED-TTL:P3D
REFRESH-INTERVAL:P3D
CALSCALE:GREGORIAN
BEGIN:VEVENT
DTSTART:20220414T123000Z
DTEND:20220414T140000Z
X-MICROSOFT-CDO-ALLDAYEVENT:FALSE
SUMMARY:Hoover Area Chamber of Commerce April Coffee & Contacts
DESCRIPTION:April Coffee & Contacts at werkplas
X-ALT-DESC;FMTTYPE=text/html:April Coffee &amp\; Contacts at werkplas
LOCATION:3000 Riverchase Galleria Suite 1500 Hoover\, AL 35244
UID:e.3294.1548
SEQUENCE:3
DTSTAMP:20260426T024912Z
URL:https://business.hooverchamber.org/events/details/hoover-area-chamber-of-commerce-april-coffee-contacts-1548
END:VEVENT

END:VCALENDAR
