BEGIN:VCALENDAR
VERSION:2.0
PRODID:-//ChamberMaster//Event Calendar 2.0//EN
METHOD:PUBLISH
X-PUBLISHED-TTL:P3D
REFRESH-INTERVAL:P3D
CALSCALE:GREGORIAN
BEGIN:VEVENT
DTSTART:20221209T003000Z
DTEND:20221209T023000Z
X-MICROSOFT-CDO-ALLDAYEVENT:FALSE
SUMMARY:Home Alone Trivia at Dave and Buster's!
DESCRIPTION:It's an evening of Home Alone Trivia unlike any before. Free to Play. Thursday\, Dec 8\, from 6:30-8:30 PM. Awesome prizes will be given away. Grab some friends and come to Dave and Buster's to test your Home Alone knowledge. Games. Drinks. Fun. Prizes. You don't wanna miss this!
X-ALT-DESC;FMTTYPE=text/html:It&#39\;s an evening of Home Alone Trivia unlike any before. Free to Play. Thursday\, Dec 8\, from 6:30-8:30 PM. Awesome prizes will be given away. Grab some friends and come to Dave and Buster&#39\;s to test your Home Alone knowledge. Games. Drinks. Fun. Prizes. You don&#39\;t wanna miss this!&nbsp\;
LOCATION:
UID:e.3294.1709
SEQUENCE:3
DTSTAMP:20260425T190128Z
URL:https://business.hooverchamber.org/events/details/home-alone-trivia-at-dave-and-buster-s-1709
END:VEVENT

END:VCALENDAR
