BEGIN:VCALENDAR
VERSION:2.0
PRODID:-//ChamberMaster//Event Calendar 2.0//EN
METHOD:PUBLISH
X-PUBLISHED-TTL:P3D
REFRESH-INTERVAL:P3D
CALSCALE:GREGORIAN
BEGIN:VEVENT
DTSTART:20220306T000000Z
DTEND:20220306T040000Z
X-MICROSOFT-CDO-ALLDAYEVENT:FALSE
SUMMARY:Hearts in Harmony "Inspiring Others"
DESCRIPTION:The Hoover Service Club cordially invites you to their annual Hearts in Harmony event March 5\, 2022 at the Hoover Country Club. This year's event "Inspiring Others" will begin at 6:00 PM with a Silent Auction followed by a seated dinner and live auction at 7:00 PM. Emcee\, Reggie Torbor\, former NFL and Auburn football standout\, and Auctioneer\, Councilman John Lyda\, will team up to inspire guests to support the Hoover Service Club as they continue their 47 year tradition of "helping others" in the Hoover community. The proceeds of the silent and live auctions are returned to those in need through the service club's Community Outreach and Scholarship programs. Event reservations are $125.00 per person with $50.00 of each reservations being tax deductible. Reservations can be made through https://hooverserviceclub.com or by contacting 205-936-0472. The deadline for reservations is Friday\, February 25\, 2022. The silent auction items will be available for bidding online at https://hscauction2021.ggobid from February 20 - March 4. Guests at the event will be able to use their phones to access auction items to expedite bidding and checkout at the conclusion of the evening. Donations to Hoover Service Club can also be made online at https://hscdonations2021.ggobid.
X-ALT-DESC;FMTTYPE=text/html:The Hoover Service Club cordially invites you to their annual Hearts in Harmony event March 5\, 2022 at the Hoover Country Club. This year&#39\;s event &quot\;Inspiring Others&quot\; will begin at 6:00 PM with a Silent Auction followed by a seated dinner and live auction at 7:00 PM. Emcee\, Reggie Torbor\, former NFL and Auburn football standout\, and Auctioneer\, Councilman John Lyda\, will team up to inspire guests to support the Hoover Service Club as they continue their 47 year tradition of &quot\;helping others&quot\; in the Hoover community. The proceeds of the silent and live auctions are returned to those in need through the service club&#39\;s Community Outreach and Scholarship programs. Event reservations are $125.00 per person with $50.00 of each reservations being tax deductible. Reservations can be made through https://hooverserviceclub.com or by contacting 205-936-0472. The deadline for reservations is Friday\, February 25\, 2022. The silent auction items will be available for bidding online at https://hscauction2021.ggobid from February 20 - March 4. Guests at the event will be able to use their phones to access auction items to expedite bidding and checkout at the conclusion of the evening. Donations to Hoover Service Club can also be made online at https://hscdonations2021.ggobid.
LOCATION:Hoover Country Club 3140 Club Drive Hoover\, AL 35226
UID:e.3294.1615
SEQUENCE:3
DTSTAMP:20260426T042039Z
URL:https://business.hooverchamber.org/events/details/hearts-in-harmony-inspiring-others-1615
END:VEVENT

END:VCALENDAR
