BEGIN:VCALENDAR
VERSION:2.0
PRODID:-//ChamberMaster//Event Calendar 2.0//EN
METHOD:PUBLISH
X-PUBLISHED-TTL:P3D
REFRESH-INTERVAL:P3D
CALSCALE:GREGORIAN
BEGIN:VEVENT
DTSTART:20220404T150000Z
DTEND:20220404T160000Z
X-MICROSOFT-CDO-ALLDAYEVENT:FALSE
SUMMARY:Express Oil Change/Children's Hospital Kick-Off Event
DESCRIPTION:Express Oil Change/Children's Hospital Kick-Off Event
X-ALT-DESC;FMTTYPE=text/html:Express Oil Change/Children&#39\;s Hospital Kick-Off Event
LOCATION:5610 Grove Boulevard Hoover\, AL 35226
UID:e.3294.1635
SEQUENCE:3
DTSTAMP:20260426T024914Z
URL:https://business.hooverchamber.org/events/details/express-oil-change-children-s-hospital-kick-off-event-1635
END:VEVENT

END:VCALENDAR
