BEGIN:VCALENDAR
VERSION:2.0
PRODID:-//ChamberMaster//Event Calendar 2.0//EN
METHOD:PUBLISH
X-PUBLISHED-TTL:P3D
REFRESH-INTERVAL:P3D
CALSCALE:GREGORIAN
BEGIN:VEVENT
DTSTART:20230207T143000Z
DTEND:20230207T153000Z
X-MICROSOFT-CDO-ALLDAYEVENT:FALSE
SUMMARY:Entrepreneurial Council Meeting
DESCRIPTION:Entrepreneurial Council Meeting\n\nTax Talk in February!\n\n \n\nJohn  Frack and LaVa Darby will discuss a little known tax deduction that can benefit us all. Come join us to learn about this tax credit.\n\n \n\nJohn Frack\, KBKG\n\n\n\nJohn is a highly accomplished client sales and business development professional with over 20 years of experience in client and customer relationship management\, high volume sales\, business unit strategies and cross-functional business planning. John is recognized for building long-lasting relationships with customers through the highest level of integrity\, trust and service. John Utilizes a vast background of knowledge\, professional skill set with experience in team leadership\, communication and leading end-to-end projects through a product life cycle.\n\n \n\nLaVa Darby\, KBKG\n\n \n\nLaVa Darby\, President and CEO of Darby Enterprise Global Solutions\, LLC over 16 years of Administrative and Human Resources in government and private-business sector.  Darby Enterprise Global Solutions LLC is a business consulting and staffing firm along with several divisions (administrative services and event coordination to private sectors\, non-profit organizations\, sports and entertainment arenas)  and 2 Joint ventures. Her education studies have been with Faulkner University and Columbia Southern University. Darby Enterprise Global Solutions\, LLC is a Woman and Minority Owned Business.
X-ALT-DESC;FMTTYPE=text/html:<span style="font-size:14px\;"><strong>Entrepreneurial Council Meeting</strong></span><br />\n<span style="font-family:segoe ui\,sans-serif\;"><span style="font-size:10.5pt\;">Tax Talk in February!</span></span><br />\n&nbsp\;<br />\n<span style="font-family:segoe ui\,sans-serif\;"><span style="font-size:10.5pt\;">John &nbsp\;Frack and LaVa Darby will discuss a little known tax deduction that can benefit us all. Come join us to learn about this tax credit.</span></span><br />\n&nbsp\;<br />\n<span style="font-family:segoe ui\,sans-serif\;"><span style="font-size:10.5pt\;"><strong><span style="font-size:16px\;">John Frack\, KBKG</span></strong></span></span><br />\n<br />\n<span style="font-family:segoe ui\,sans-serif\;"><span style="font-size:10.5pt\;">John is a highly accomplished client sales and business development professional with over 20 years of experience in client and customer relationship management\, high volume sales\, business unit strategies and cross-functional business planning. John is recognized for building long-lasting relationships with customers through the highest level of integrity\, trust and service. John Utilizes a vast background of knowledge\, professional skill set with experience in team leadership\, communication and leading end-to-end projects through a product life cycle.</span></span><br />\n&nbsp\;<br />\n<span style="font-size:16px\;"><strong><span style="font-family:segoe ui\,sans-serif\;">LaVa Darby\, KBKG</span><br />\n&nbsp\;</strong></span><br />\n<span style="font-size:10.5pt\;">LaVa Darby\, President and CEO&nbsp\;of Darby Enterprise Global Solutions\, LLC over 16 years of Administrative&nbsp\;and Human Resources in government and private-business sector.&nbsp\; Darby Enterprise Global Solutions LLC is a business consulting and staffing firm along with several&nbsp\;divisions (administrative&nbsp\;services and&nbsp\;event coordination to&nbsp\;private&nbsp\;sectors\, non-profit organizations\, sports&nbsp\;and&nbsp\;entertainment arenas)&nbsp\;&nbsp\;and 2 Joint ventures.&nbsp\;Her education&nbsp\;studies&nbsp\;have&nbsp\;been with Faulkner&nbsp\;University&nbsp\;and Columbia Southern University. Darby Enterprise Global&nbsp\;Solutions\, LLC&nbsp\;is a Woman and Minority Owned Business.</span><br />\n&nbsp\;
LOCATION:Hoover Chamber Office 3000 Riverchase Galleria Suite 375 Hoover 35244 205-988-5672
UID:e.3294.2595
SEQUENCE:3
DTSTAMP:20260425T204447Z
URL:https://business.hooverchamber.org/events/details/entrepreneurial-council-meeting-2595
END:VEVENT

END:VCALENDAR
