BEGIN:VCALENDAR
VERSION:2.0
PRODID:-//ChamberMaster//Event Calendar 2.0//EN
METHOD:PUBLISH
X-PUBLISHED-TTL:P3D
REFRESH-INTERVAL:P3D
CALSCALE:GREGORIAN
BEGIN:VEVENT
DTSTART:20211102T133000Z
DTEND:20211102T143000Z
X-MICROSOFT-CDO-ALLDAYEVENT:FALSE
SUMMARY:Entrepreneurial Council Meeting
DESCRIPTION:As we get to the end of the year\, it is now time to start planning for the next business year.  What are your goals for 2022 and beyond?  How do you prepare for the new year? Our speaker\, Latangelia Sanderson of Sanderson Solutions & Consulting will discuss how to plan for your next business year.\n\n \n\nLatangelia is a strategic business and marketing professional versed in all aspects of nurturing business results in branding\, entrepreneurship\, executive sales\, and project management ventures. Adept at motivating self and others with advantageous strategic planning methods and progressive thinking\, Passionate about business growth with B2B collaborations and progressive innovation.\n\n \n\nPlease join us on Tuesday November 2\, 2021 at 8:30 am for the November Entrepreneurial Council Meeting via zoom.
X-ALT-DESC;FMTTYPE=text/html:As we get to the end of the year\, it is now time to start planning&nbsp\;for the next&nbsp\;business year.&nbsp\; What are your goals for 2022 and beyond?&nbsp\; How do you prepare for the new year? Our speaker\, Latangelia Sanderson of Sanderson Solutions &amp\; Consulting will discuss how to plan for your next business year.<br />\n&nbsp\;<br />\n<span style="font-family:segoe ui\,sans-serif\;">Latangelia is a strategic business and marketing professional versed in all aspects of nurturing business results in branding\, entrepreneurship\, executive sales\, and project management ventures. Adept at motivating self and others with advantageous strategic planning methods and progressive thinking\, Passionate about business growth with B2B collaborations and progressive innovation.</span><br />\n&nbsp\;<br />\n<span style="font-family:segoe ui\,sans-serif\;">Please join us on Tuesday November 2\, 2021 at 8:30 am for the November Entrepreneurial&nbsp\;Council Meeting via zoom.</span>
LOCATION:Zoom Meeting information:
UID:e.3294.1529
SEQUENCE:3
DTSTAMP:20260419T174636Z
URL:https://business.hooverchamber.org/events/details/entrepreneurial-council-meeting-1529
END:VEVENT

END:VCALENDAR
